FILENAME: O4511245.SES.789243.tif
QUADRANGLE_NAME: BEAVERHEAD ROCK SW
QUADRANT: SE
WEST_LONGITUDE: -112 26 15.00000
EAST_LONGITUDE: -112 22 30.00000
NORTH_LATITUDE: 45 18 45.00000
SOUTH_LATITUDE: 45 15 0.00000
PRODUCTION_DATE: 1997 11 14
RASTER_ORDER: LEFT_RIGHT/TOP_BOTTOM
BAND_ORGANIZATION: SINGLE FILE
BAND_CONTENT: BLACK&WHITE
BAND_CONTENT: UNDEFINED
BAND_CONTENT: UNDEFINED
BITS_PER_PIXEL: 8
SAMPLES_AND_LINES: 5689 7636
HORIZONTAL_DATUM: NAD83
HORIZONTAL_COORDINATE_SYSTEM: UTM
COORDINATE_ZONE: 12
HORIZONTAL_UNITS: METERS
HORIZONTAL_RESOLUTION: 1.00000
SECONDARY_HORIZONTAL_DATUM: NAD27
XY_ORIGIN: 386831.14400 5018970.68900
SECONDARY_XY_ORIGIN: 386893.92200 5018760.69200
NATION: US
STATE: MT
NW_QUAD_CORNER_XY: 387320.67900 5018671.18900
NE_QUAD_CORNER_XY: 392219.77100 5018585.68600
SE_QUAD_CORNERY_XY: 392101.34800 5011642.40100
SW_QUAD_CORNER_XY: 387196.87200 5011727.90600
SECONDARY_NW_QUAD_XY: 387317.33100 5018453.76100
SECONDARY_NE_QUAD_XY: 392216.56800 5018368.25500
SECONDARY_SE_QUAD_XY: 392098.14600 5011425.02200
SECONDARY_SW_QUAD_XY: 387193.52400 5011510.53000
RMSE_XY: 1.50000
IMAGE_SOURCE: BLACK AND WHITE FILM
SOURCE_IMAGE_ID: NAPP 8382 252
SOURCE_IMAGE_DATE: 1995 8 1
SOURCE_DEM_DATE: 1997 11 14
AGENCY: WESTERN MAPPING CENTER (WMC)
PRODUCER: NIES MAPPING GROUP
PRODUCTION_SYSTEM: INTERGRAPH- ISPM,ISIR
COMPRESSION: UNDEFINED
STANDARD_VERSION: 1996 12
METADATA_DATE: 1998 2 10
DATA_FILE_SIZE: 43446893
BYTE_COUNT: 5689
