FILENAME: O4511242.NWS.811514.tif
QUADRANGLE_NAME: ARGENTA
QUADRANT: NW
WEST_LONGITUDE: -112 52 30.00000
EAST_LONGITUDE: -112 48 45.00000
NORTH_LATITUDE: 45 22 30.00000
SOUTH_LATITUDE: 45 18 45.00000
PRODUCTION_DATE: 1997 11 25
RASTER_ORDER: LEFT_RIGHT/TOP_BOTTOM
BAND_ORGANIZATION: SINGLE FILE
BAND_CONTENT: BLACK&WHITE
BAND_CONTENT: UNDEFINED
BAND_CONTENT: UNDEFINED
BITS_PER_PIXEL: 8
SAMPLES_AND_LINES: 5723 7662
HORIZONTAL_DATUM: NAD83
HORIZONTAL_COORDINATE_SYSTEM: UTM
COORDINATE_ZONE: 12
HORIZONTAL_UNITS: METERS
HORIZONTAL_RESOLUTION: 1.00000
SECONDARY_HORIZONTAL_DATUM: NAD27
XY_ORIGIN: 352659.54200 5026619.01400
SECONDARY_XY_ORIGIN: 352723.11500 5026408.36200
NATION: US
STATE: MT
NW_QUAD_CORNER_XY: 353188.76400 5026319.51400
NE_QUAD_CORNER_XY: 358082.45200 5026207.39600
SE_QUAD_CORNERY_XY: 357926.15800 5019264.05500
SW_QUAD_CORNER_XY: 353027.07600 5019376.17600
SECONDARY_NW_QUAD_XY: 353184.39500 5026102.05600
SECONDARY_NE_QUAD_XY: 358078.22900 5025989.93400
SECONDARY_SE_QUAD_XY: 357921.93500 5019046.64500
SECONDARY_SW_QUAD_XY: 353022.70800 5019158.76900
RMSE_XY: 1.60000
IMAGE_SOURCE: BLACK AND WHITE FILM
SOURCE_IMAGE_ID: NAPP 9485 196
SOURCE_IMAGE_DATE: 1995 8 20
SOURCE_DEM_DATE: 1997 11 25
AGENCY: WESTERN MAPPING CENTER (WMC)
PRODUCER: NIES MAPPING GROUP
PRODUCTION_SYSTEM: INTERGRAPH-ISIR
COMPRESSION: UNDEFINED
STANDARD_VERSION: 1996 12
METADATA_DATE: 1998 3 19
DATA_FILE_SIZE: 43855349
BYTE_COUNT: 5723
