FILENAME: O4511240.NES.792740.tif
QUADRANGLE_NAME: COPPER MOUNTAIN
QUADRANT: NE
WEST_LONGITUDE: -112 3 45.00000
EAST_LONGITUDE: -112 0 0.00000
NORTH_LATITUDE: 45 30 0.00000
SOUTH_LATITUDE: 45 26 15.00000
PRODUCTION_DATE: 1997 11 21
RASTER_ORDER: LEFT_RIGHT/TOP_BOTTOM
BAND_ORGANIZATION: SINGLE FILE
BAND_CONTENT: BLACK&WHITE
BAND_CONTENT: UNDEFINED
BAND_CONTENT: UNDEFINED
BITS_PER_PIXEL: 8
SAMPLES_AND_LINES: 5639 7614
HORIZONTAL_DATUM: NAD83
HORIZONTAL_COORDINATE_SYSTEM: UTM
COORDINATE_ZONE: 12
HORIZONTAL_UNITS: METERS
HORIZONTAL_RESOLUTION: 1.00000
SECONDARY_HORIZONTAL_DATUM: NAD27
XY_ORIGIN: 416534.79600 5039345.00400
SECONDARY_XY_ORIGIN: 416596.58000 5039134.81500
NATION: US
STATE: MT
NW_QUAD_CORNER_XY: 416990.35000 5039045.50400
NE_QUAD_CORNER_XY: 421873.26200 5038982.81200
SE_QUAD_CORNERY_XY: 421786.86300 5032039.29800
SW_QUAD_CORNER_XY: 416898.55000 5032101.99200
SECONDARY_NW_QUAD_XY: 416987.87300 5038827.91200
SECONDARY_NE_QUAD_XY: 421870.93100 5038765.21900
SECONDARY_SE_QUAD_XY: 421784.53200 5031821.75300
SECONDARY_SW_QUAD_XY: 416896.07300 5031884.44900
RMSE_XY: 2.50000
IMAGE_SOURCE: BLACK AND WHITE FILM
SOURCE_IMAGE_ID: NAPP 9485 268
SOURCE_IMAGE_DATE: 1995 8 20
SOURCE_DEM_DATE: 1997 11 21
AGENCY: WESTERN MAPPING CENTER (WMC)
PRODUCER: NIES MAPPING GROUP
PRODUCTION_SYSTEM: INTERGRAPH- ISPM,ISIR
COMPRESSION: UNDEFINED
STANDARD_VERSION: 1996 12
METADATA_DATE: 1998 2 5
DATA_FILE_SIZE: 42940985
BYTE_COUNT: 5639
