FILENAME: O4511237.NWS.790400.tif
QUADRANGLE_NAME: BEAVERHEAD ROCK
QUADRANT: NW
WEST_LONGITUDE: -112 30 0.00000
EAST_LONGITUDE: -112 26 15.00000
NORTH_LATITUDE: 45 30 0.00000
SOUTH_LATITUDE: 45 26 15.00000
PRODUCTION_DATE: 1997 11 14
RASTER_ORDER: LEFT_RIGHT/TOP_BOTTOM
BAND_ORGANIZATION: SINGLE FILE
BAND_CONTENT: BLACK&WHITE
BAND_CONTENT: UNDEFINED
BAND_CONTENT: UNDEFINED
BITS_PER_PIXEL: 8
SAMPLES_AND_LINES: 5679 7640
HORIZONTAL_DATUM: NAD83
HORIZONTAL_COORDINATE_SYSTEM: UTM
COORDINATE_ZONE: 12
HORIZONTAL_UNITS: METERS
HORIZONTAL_RESOLUTION: 1.00000
SECONDARY_HORIZONTAL_DATUM: NAD27
XY_ORIGIN: 382314.69300 5039890.26500
SECONDARY_XY_ORIGIN: 382377.28000 5039679.74000
NATION: US
STATE: MT
NW_QUAD_CORNER_XY: 382810.01300 5039590.76500
NE_QUAD_CORNER_XY: 387692.91200 5039501.46700
SE_QUAD_CORNERY_XY: 387568.70000 5032557.97000
SW_QUAD_CORNER_XY: 382680.39700 5032647.27100
SECONDARY_NW_QUAD_XY: 382806.51500 5039373.19000
SECONDARY_NE_QUAD_XY: 387689.56000 5039283.88900
SECONDARY_SE_QUAD_XY: 387565.34900 5032340.44100
SECONDARY_SW_QUAD_XY: 382676.90100 5032429.74400
RMSE_XY: 2.00000
IMAGE_SOURCE: BLACK AND WHITE FILM
SOURCE_IMAGE_ID: NAPP 9485 228
SOURCE_IMAGE_DATE: 1995 8 20
SOURCE_DEM_DATE: 1997 11 14
AGENCY: WESTERN MAPPING CENTER (WMC)
PRODUCER: NIES MAPPING GROUP
PRODUCTION_SYSTEM: INTERGRAPH- ISPM,ISIR
COMPRESSION: UNDEFINED
STANDARD_VERSION: 1996 12
METADATA_DATE: 1998 2 10
DATA_FILE_SIZE: 43393239
BYTE_COUNT: 5679
