FILENAME: O4511236.NES.788800.tif
QUADRANGLE_NAME: BLOCK MOUNTAIN
QUADRANT: NE
WEST_LONGITUDE: -112 33 45.00000
EAST_LONGITUDE: -112 30 0.00000
NORTH_LATITUDE: 45 30 0.00000
SOUTH_LATITUDE: 45 26 15.00000
PRODUCTION_DATE: 1997 11 25
RASTER_ORDER: LEFT_RIGHT/TOP_BOTTOM
BAND_ORGANIZATION: SINGLE FILE
BAND_CONTENT: BLACK&WHITE
BAND_CONTENT: UNDEFINED
BAND_CONTENT: UNDEFINED
BITS_PER_PIXEL: 8
SAMPLES_AND_LINES: 5684 7644
HORIZONTAL_DATUM: NAD83
HORIZONTAL_COORDINATE_SYSTEM: UTM
COORDINATE_ZONE: 12
HORIZONTAL_UNITS: METERS
HORIZONTAL_RESOLUTION: 1.00000
SECONDARY_HORIZONTAL_DATUM: NAD27
XY_ORIGIN: 377426.08800 5039983.36500
SECONDARY_XY_ORIGIN: 377488.84600 5039772.74000
NATION: US
STATE: MT
NW_QUAD_CORNER_XY: 377927.11500 5039683.86500
NE_QUAD_CORNER_XY: 382810.01300 5039590.76500
SE_QUAD_CORNERY_XY: 382680.39700 5032647.27100
SW_QUAD_CORNER_XY: 377792.09700 5032740.37300
SECONDARY_NW_QUAD_XY: 377923.47300 5039466.29200
SECONDARY_NE_QUAD_XY: 382806.51500 5039373.19000
SECONDARY_SE_QUAD_XY: 382676.90100 5032429.74400
SECONDARY_SW_QUAD_XY: 377788.45500 5032522.84900
RMSE_XY: 3.00000
IMAGE_SOURCE: BLACK AND WHITE FILM
SOURCE_IMAGE_ID: NAPP 8382 151
SOURCE_IMAGE_DATE: 1995 8 1
SOURCE_DEM_DATE: 1997 11 25
AGENCY: WESTERN MAPPING CENTER (WMC)
PRODUCER: NIES MAPPING GROUP
PRODUCTION_SYSTEM: INTERGRAPH-ISIR
COMPRESSION: UNDEFINED
STANDARD_VERSION: 1996 12
METADATA_DATE: 1998 2 11
DATA_FILE_SIZE: 43454180
BYTE_COUNT: 5684
