FILENAME: O4511234.SES.792710.tif
QUADRANGLE_NAME: TWIN ADAMS MOUNTAIN
QUADRANT: SE
WEST_LONGITUDE: -112 48 45.00000
EAST_LONGITUDE: -112 45 0.00000
NORTH_LATITUDE: 45 26 15.00000
SOUTH_LATITUDE: 45 22 30.00000
PRODUCTION_DATE: 1997 11 25
RASTER_ORDER: LEFT_RIGHT/TOP_BOTTOM
BAND_ORGANIZATION: SINGLE FILE
BAND_CONTENT: BLACK&WHITE
BAND_CONTENT: UNDEFINED
BAND_CONTENT: UNDEFINED
BITS_PER_PIXEL: 8
SAMPLES_AND_LINES: 5712 7659
HORIZONTAL_DATUM: NAD83
HORIZONTAL_COORDINATE_SYSTEM: UTM
COORDINATE_ZONE: 12
HORIZONTAL_UNITS: METERS
HORIZONTAL_RESOLUTION: 1.00000
SECONDARY_HORIZONTAL_DATUM: NAD27
XY_ORIGIN: 357715.22900 5033450.30500
SECONDARY_XY_ORIGIN: 357778.64000 5033239.52800
NATION: US
STATE: MT
NW_QUAD_CORNER_XY: 358238.91700 5033150.80500
NE_QUAD_CORNER_XY: 363127.20900 5033042.49300
SE_QUAD_CORNERY_XY: 362976.14300 5026099.08100
SW_QUAD_CORNER_XY: 358082.45200 5026207.39600
SECONDARY_NW_QUAD_XY: 358234.69200 5032933.29400
SECONDARY_NE_QUAD_XY: 363123.13000 5032824.97900
SECONDARY_SE_QUAD_XY: 362972.06500 5025881.61600
SECONDARY_SW_QUAD_XY: 358078.22900 5025989.93400
RMSE_XY: 1.80000
IMAGE_SOURCE: BLACK AND WHITE FILM
SOURCE_IMAGE_ID: NAPP 9483 123
SOURCE_IMAGE_DATE: 1995 8 14
SOURCE_DEM_DATE: 1997 11 25
AGENCY: WESTERN MAPPING CENTER (WMC)
PRODUCER: NIES MAPPING GROUP
PRODUCTION_SYSTEM: INTERGRAPH-ISIR
COMPRESSION: UNDEFINED
STANDARD_VERSION: 1996 12
METADATA_DATE: 1998 2 11
DATA_FILE_SIZE: 43753920
BYTE_COUNT: 5712
