FILENAME: O4511233.SES.1076898.tif
QUADRANGLE_NAME: TORREY MOUNTAIN
QUADRANT: SE
WEST_LONGITUDE: -112 56 15.00000
EAST_LONGITUDE: -112 52 30.00000
NORTH_LATITUDE: 45 26 15.00000
SOUTH_LATITUDE: 45 22 30.00000
PRODUCTION_DATE: 2000 4 19
RASTER_ORDER: LEFT_RIGHT/TOP_BOTTOM
BAND_ORGANIZATION: SINGLE FILE
BAND_CONTENT: BLACK&WHITE
BAND_CONTENT: UNDEFINED
BAND_CONTENT: UNDEFINED
BITS_PER_PIXEL: 8
SAMPLES_AND_LINES: 5727 7669
HORIZONTAL_DATUM: NAD83
HORIZONTAL_COORDINATE_SYSTEM: UTM
COORDINATE_ZONE: 12
HORIZONTAL_UNITS: METERS
HORIZONTAL_RESOLUTION: 1.00000
SECONDARY_HORIZONTAL_DATUM: NAD27
XY_ORIGIN: 347925.00000 5033679.00000
SECONDARY_XY_ORIGIN: 347988.54600 5033468.19800
NATION: US
NATION: "SCIENCE
STATE: MT
NW_QUAD_CORNER_XY: 348462.34100 5033378.83700
NE_QUAD_CORNER_XY: 353350.62800 5033262.91900
SE_QUAD_CORNERY_XY: 353188.76400 5026319.51300
SW_QUAD_CORNER_XY: 348295.07800 5026435.43500
SECONDARY_NW_QUAD_XY: 348457.82500 5033161.33300
SECONDARY_NE_QUAD_XY: 353346.25700 5033045.41100
SECONDARY_SE_QUAD_XY: 353184.39500 5026102.05500
SECONDARY_SW_QUAD_XY: 348290.56300 5026217.98000
RMSE_XY: 2.20000
IMAGE_SOURCE: BLACK AND WHITE FILM
SOURCE_IMAGE_ID: NAPP 9483 162
SOURCE_IMAGE_DATE: 1995 08 14
SOURCE_IMAGE_ID: NAPP 9485 132
SOURCE_IMAGE_DATE: 1995 08 20
SOURCE_IMAGE_ID: NAPP 9483 163
SOURCE_IMAGE_DATE: 1995 08 14
SOURCE_DEM_DATE: 2000 01 01
AGENCY: WESTERN MAPPING CENTER (WMC)
PRODUCER: UNDEFINED
PRODUCTION_SYSTEM: GIS/MAGIC
COMPRESSION: UNDEFINED
STANDARD_VERSION: 1996 12
METADATA_DATE: 2000 05 29
DATA_FILE_SIZE: 43926090
BYTE_COUNT: 5727
