FILENAME: O4511229.NES.790381.tif
QUADRANGLE_NAME: TWIN BRIDGES SW
QUADRANT: NE
WEST_LONGITUDE: -112 26 15.00000
EAST_LONGITUDE: -112 22 30.00000
NORTH_LATITUDE: 45 37 30.00000
SOUTH_LATITUDE: 45 33 45.00000
PRODUCTION_DATE: 1997 11 14
RASTER_ORDER: LEFT_RIGHT/TOP_BOTTOM
BAND_ORGANIZATION: SINGLE FILE
BAND_CONTENT: BLACK&WHITE
BAND_CONTENT: UNDEFINED
BAND_CONTENT: UNDEFINED
BITS_PER_PIXEL: 8
SAMPLES_AND_LINES: 5662 7636
HORIZONTAL_DATUM: NAD83
HORIZONTAL_COORDINATE_SYSTEM: UTM
COORDINATE_ZONE: 12
HORIZONTAL_UNITS: METERS
HORIZONTAL_RESOLUTION: 1.00000
SECONDARY_HORIZONTAL_DATUM: NAD27
XY_ORIGIN: 387451.96000 5053688.17700
SECONDARY_XY_ORIGIN: 387514.45200 5053477.54500
NATION: US
STATE: MT
NW_QUAD_CORNER_XY: 387941.74000 5053388.67700
NE_QUAD_CORNER_XY: 392813.81800 5053303.18800
SE_QUAD_CORNERY_XY: 392694.75200 5046359.54300
SW_QUAD_CORNER_XY: 387817.25900 5046445.03600
SECONDARY_NW_QUAD_XY: 387938.38700 5053171.00300
SECONDARY_NE_QUAD_XY: 392810.61100 5053085.51100
SECONDARY_SE_QUAD_XY: 392691.54500 5046141.91400
SECONDARY_SW_QUAD_XY: 387813.90600 5046227.41000
RMSE_XY: 2.90000
IMAGE_SOURCE: BLACK AND WHITE FILM
SOURCE_IMAGE_ID: NAPP 8382 262
SOURCE_IMAGE_DATE: 1995 8 1
SOURCE_DEM_DATE: 1997 11 14
AGENCY: WESTERN MAPPING CENTER (WMC)
PRODUCER: NIES MAPPING GROUP
PRODUCTION_SYSTEM: INTERGRAPH- ISPM,ISIR
COMPRESSION: UNDEFINED
STANDARD_VERSION: 1996 12
METADATA_DATE: 1998 2 10
DATA_FILE_SIZE: 43240694
BYTE_COUNT: 5662
