FILENAME: O4511222.NWS.790141.tif
QUADRANGLE_NAME: SILVER STAR
QUADRANT: NW
WEST_LONGITUDE: -112 22 30.00000
EAST_LONGITUDE: -112 18 45.00000
NORTH_LATITUDE: 45 45 0.00000
SOUTH_LATITUDE: 45 41 15.00000
PRODUCTION_DATE: 1997 11 25
RASTER_ORDER: LEFT_RIGHT/TOP_BOTTOM
BAND_ORGANIZATION: SINGLE FILE
BAND_CONTENT: BLACK&WHITE
BAND_CONTENT: UNDEFINED
BAND_CONTENT: UNDEFINED
BITS_PER_PIXEL: 8
SAMPLES_AND_LINES: 5646 7633
HORIZONTAL_DATUM: NAD83
HORIZONTAL_COORDINATE_SYSTEM: UTM
COORDINATE_ZONE: 12
HORIZONTAL_UNITS: METERS
HORIZONTAL_RESOLUTION: 1.00000
SECONDARY_HORIZONTAL_DATUM: NAD27
XY_ORIGIN: 392567.99000 5067490.19200
SECONDARY_XY_ORIGIN: 392630.34100 5067279.47100
NATION: US
STATE: MT
NW_QUAD_CORNER_XY: 393052.33700 5067190.69200
NE_QUAD_CORNER_XY: 397913.57300 5067109.01100
SE_QUAD_CORNERY_XY: 397799.67500 5060165.21900
SW_QUAD_CORNER_XY: 392933.01400 5060246.90400
SECONDARY_NW_QUAD_XY: 393049.12800 5066972.92300
SECONDARY_NE_QUAD_XY: 397910.51000 5066891.24000
SECONDARY_SE_QUAD_XY: 397796.61300 5059947.49300
SECONDARY_SW_QUAD_XY: 392929.80500 5060029.18000
RMSE_XY: 2.10000
IMAGE_SOURCE: BLACK AND WHITE FILM
SOURCE_IMAGE_ID: NAPP 9484 26
SOURCE_IMAGE_DATE: 1995 8 14
SOURCE_DEM_DATE: 1997 11 25
AGENCY: WESTERN MAPPING CENTER (WMC)
PRODUCER: NIES MAPPING GROUP
PRODUCTION_SYSTEM: INTERGRAPH-ISIR
COMPRESSION: UNDEFINED
STANDARD_VERSION: 1996 12
METADATA_DATE: 1998 2 9
DATA_FILE_SIZE: 43101564
BYTE_COUNT: 5646
