FILENAME: O4511218.SWS.788746.tif
QUADRANGLE_NAME: CATTLE GULCH
QUADRANT: SW
WEST_LONGITUDE: -112 52 30.00000
EAST_LONGITUDE: -112 48 45.00000
NORTH_LATITUDE: 45 41 15.00000
SOUTH_LATITUDE: 45 37 30.00000
PRODUCTION_DATE: 1997 11 26
RASTER_ORDER: LEFT_RIGHT/TOP_BOTTOM
BAND_ORGANIZATION: SINGLE FILE
BAND_CONTENT: BLACK&WHITE
BAND_CONTENT: UNDEFINED
BAND_CONTENT: UNDEFINED
BITS_PER_PIXEL: 8
SAMPLES_AND_LINES: 5697 7662
HORIZONTAL_DATUM: NAD83
HORIZONTAL_COORDINATE_SYSTEM: UTM
COORDINATE_ZONE: 12
HORIZONTAL_UNITS: METERS
HORIZONTAL_RESOLUTION: 1.00000
SECONDARY_HORIZONTAL_DATUM: NAD27
XY_ORIGIN: 353470.09100 5061336.72600
SECONDARY_XY_ORIGIN: 353533.36400 5061125.67300
NATION: US
STATE: MT
NW_QUAD_CORNER_XY: 353999.83700 5061037.22600
NE_QUAD_CORNER_XY: 358866.47100 5060925.13000
SE_QUAD_CORNERY_XY: 358709.32900 5053981.44500
SW_QUAD_CORNER_XY: 353837.27200 5054093.54800
SECONDARY_NW_QUAD_XY: 353995.46200 5060819.52700
SECONDARY_NE_QUAD_XY: 358862.24200 5060707.42700
SECONDARY_SE_QUAD_XY: 358705.10100 5053763.78900
SECONDARY_SW_QUAD_XY: 353832.89800 5053875.89500
RMSE_XY: 2.70000
IMAGE_SOURCE: BLACK AND WHITE FILM
SOURCE_IMAGE_ID: NAPP 9485 206
SOURCE_IMAGE_DATE: 1995 8 20
SOURCE_DEM_DATE: 1997 11 26
AGENCY: WESTERN MAPPING CENTER (WMC)
PRODUCER: NIES MAPPING GROUP
PRODUCTION_SYSTEM: INTERGRAPH-ISIR
COMPRESSION: UNDEFINED
STANDARD_VERSION: 1996 12
METADATA_DATE: 1998 2 11
DATA_FILE_SIZE: 43656111
BYTE_COUNT: 5697
