FILENAME: O4511212.SES.788237.tif
QUADRANGLE_NAME: MOUNT HUMBUG
QUADRANT: SE
WEST_LONGITUDE: -112 33 45.00000
EAST_LONGITUDE: -112 30 0.00000
NORTH_LATITUDE: 45 48 45.00000
SOUTH_LATITUDE: 45 45 0.00000
PRODUCTION_DATE: 1997 11 26
RASTER_ORDER: LEFT_RIGHT/TOP_BOTTOM
BAND_ORGANIZATION: SINGLE FILE
BAND_CONTENT: BLACK&WHITE
BAND_CONTENT: UNDEFINED
BAND_CONTENT: UNDEFINED
BITS_PER_PIXEL: 8
SAMPLES_AND_LINES: 5658 7644
HORIZONTAL_DATUM: NAD83
HORIZONTAL_COORDINATE_SYSTEM: UTM
COORDINATE_ZONE: 12
HORIZONTAL_UNITS: METERS
HORIZONTAL_RESOLUTION: 1.00000
SECONDARY_HORIZONTAL_DATUM: NAD27
XY_ORIGIN: 378102.66000 5074701.88000
SECONDARY_XY_ORIGIN: 378165.52000 5074490.96000
NATION: US
STATE: MT
NW_QUAD_CORNER_XY: 378604.40000 5074402.38000
NE_QUAD_CORNER_XY: 383460.19000 5074309.30000
SE_QUAD_CORNERY_XY: 383329.88000 5067365.46000
SW_QUAD_CORNER_XY: 378468.65000 5067458.54000
SECONDARY_NW_QUAD_XY: 378600.75000 5074184.58000
SECONDARY_NE_QUAD_XY: 383456.69000 5074091.50000
SECONDARY_SE_QUAD_XY: 383326.37000 5067147.69000
SECONDARY_SW_QUAD_XY: 378465.00000 5067240.78000
RMSE_XY: 2.00000
IMAGE_SOURCE: BLACK AND WHITE FILM
SOURCE_IMAGE_ID: NAPP 8382 161
SOURCE_IMAGE_DATE: 1995 8 1
SOURCE_DEM_DATE: 1997 11 26
AGENCY: WESTERN MAPPING CENTER (WMC)
PRODUCER: NIES MAPPING GROUP
PRODUCTION_SYSTEM: INTERGRAPH-ISIR
COMPRESSION: UNDEFINED
STANDARD_VERSION: 1996 12
METADATA_DATE: 1998 2 9
DATA_FILE_SIZE: 43255410
BYTE_COUNT: 5658
