FILENAME: O4511209.SES.1076778.tif
QUADRANGLE_NAME: WISE RIVER
QUADRANT: SE
WEST_LONGITUDE: -112 56 15.00000
EAST_LONGITUDE: -112 52 30.00000
NORTH_LATITUDE: 45 48 45.00000
SOUTH_LATITUDE: 45 45 0.00000
PRODUCTION_DATE: 2000 4 4
RASTER_ORDER: LEFT_RIGHT/TOP_BOTTOM
BAND_ORGANIZATION: SINGLE FILE
BAND_CONTENT: BLACK&WHITE
BAND_CONTENT: UNDEFINED
BAND_CONTENT: UNDEFINED
BITS_PER_PIXEL: 8
SAMPLES_AND_LINES: 5695 7669
HORIZONTAL_DATUM: NAD83
HORIZONTAL_COORDINATE_SYSTEM: UTM
COORDINATE_ZONE: 12
HORIZONTAL_UNITS: METERS
HORIZONTAL_RESOLUTION: 1.00000
SECONDARY_HORIZONTAL_DATUM: NAD27
XY_ORIGIN: 348932.00000 5075341.00000
SECONDARY_XY_ORIGIN: 348995.29300 5075129.83300
NATION: US
NATION: "SCIENCE
STATE: MT
NW_QUAD_CORNER_XY: 349469.72300 5075040.67400
NE_QUAD_CORNER_XY: 354325.49100 5074924.78800
SE_QUAD_CORNERY_XY: 354162.57600 5067980.97300
SW_QUAD_CORNER_XY: 349301.37400 5068096.86600
SECONDARY_NW_QUAD_XY: 349465.20000 5074822.88800
SECONDARY_NE_QUAD_XY: 354321.11400 5074706.99700
SECONDARY_SE_QUAD_XY: 354158.20000 5067763.22700
SECONDARY_SW_QUAD_XY: 349296.85300 5067879.12400
RMSE_XY: 1.70000
IMAGE_SOURCE: BLACK AND WHITE FILM
SOURCE_IMAGE_ID: NAPP 9483 150
SOURCE_IMAGE_DATE: 1995 08 14
SOURCE_IMAGE_ID: NAPP 9485 120
SOURCE_IMAGE_DATE: 1995 08 20
SOURCE_IMAGE_ID: NAPP 9483 151
SOURCE_IMAGE_DATE: 1995 08 14
SOURCE_IMAGE_ID: NAPP 9483 149
SOURCE_IMAGE_DATE: 1995 08 14
SOURCE_DEM_DATE: 1961 00 00
AGENCY: WESTERN MAPPING CENTER (WMC)
PRODUCER: UNDEFINED
PRODUCTION_SYSTEM: GIS/MAGIC
COMPRESSION: UNDEFINED
STANDARD_VERSION: 1996 12
METADATA_DATE: 2000 05 29
DATA_FILE_SIZE: 43680650
BYTE_COUNT: 5695
