FILENAME: O4511208.SES.1076950.tif
QUADRANGLE_NAME: BLACK BUTTE
QUADRANT: SE
WEST_LONGITUDE: -112 3 45.00000
EAST_LONGITUDE: -112 0 0.00000
NORTH_LATITUDE: 45 56 15.00000
SOUTH_LATITUDE: 45 52 30.00000
PRODUCTION_DATE: 2000 4 20
RASTER_ORDER: LEFT_RIGHT/TOP_BOTTOM
BAND_ORGANIZATION: SINGLE FILE
BAND_CONTENT: BLACK&WHITE
BAND_CONTENT: UNDEFINED
BAND_CONTENT: UNDEFINED
BITS_PER_PIXEL: 8
SAMPLES_AND_LINES: 5604 7617
HORIZONTAL_DATUM: NAD83
HORIZONTAL_COORDINATE_SYSTEM: UTM
COORDINATE_ZONE: 12
HORIZONTAL_UNITS: METERS
HORIZONTAL_RESOLUTION: 1.00000
SECONDARY_HORIZONTAL_DATUM: NAD27
XY_ORIGIN: 417178.00000 5087953.00000
SECONDARY_XY_ORIGIN: 417239.72900 5087742.38400
NATION: US
NATION: "SCIENCE
STATE: MT
NW_QUAD_CORNER_XY: 417635.73100 5087652.15300
NE_QUAD_CORNER_XY: 422480.67200 5087589.48400
SE_QUAD_CORNERY_XY: 422393.62000 5080645.45200
SW_QUAD_CORNER_XY: 417543.23700 5080708.12500
SECONDARY_NW_QUAD_XY: 417633.25000 5087434.24100
SECONDARY_NE_QUAD_XY: 422478.33700 5087371.57000
SECONDARY_SE_QUAD_XY: 422391.28500 5080427.58100
SECONDARY_SW_QUAD_XY: 417540.75600 5080490.25600
RMSE_XY: 3.70000
IMAGE_SOURCE: BLACK AND WHITE FILM
SOURCE_IMAGE_ID: NAPP 9491 120
SOURCE_IMAGE_DATE: 1995 09 01
SOURCE_IMAGE_ID: NAPP 9491 122
SOURCE_IMAGE_DATE: 1995 09 01
SOURCE_IMAGE_ID: NAPP 9491 121
SOURCE_IMAGE_DATE: 1995 09 01
SOURCE_IMAGE_ID: NAPP 9491 119
SOURCE_IMAGE_DATE: 1995 09 01
SOURCE_DEM_DATE: 1988 00 00
AGENCY: WESTERN MAPPING CENTER (WMC)
PRODUCER: UNDEFINED
PRODUCTION_SYSTEM: GIS/MAGIC
COMPRESSION: UNDEFINED
STANDARD_VERSION: 1996 12
METADATA_DATE: 2000 05 31
DATA_FILE_SIZE: 42691272
BYTE_COUNT: 5604
