FILENAME: O4511207.SWS.1076906.tif
QUADRANGLE_NAME: DRY MOUNTAIN
QUADRANT: SW
WEST_LONGITUDE: -112 15 0.00000
EAST_LONGITUDE: -112 11 15.00000
NORTH_LATITUDE: 45 56 15.00000
SOUTH_LATITUDE: 45 52 30.00000
PRODUCTION_DATE: 2000 5 9
RASTER_ORDER: LEFT_RIGHT/TOP_BOTTOM
BAND_ORGANIZATION: SINGLE FILE
BAND_CONTENT: BLACK&WHITE
BAND_CONTENT: UNDEFINED
BAND_CONTENT: UNDEFINED
BITS_PER_PIXEL: 8
SAMPLES_AND_LINES: 5621 7628
HORIZONTAL_DATUM: NAD83
HORIZONTAL_COORDINATE_SYSTEM: UTM
COORDINATE_ZONE: 12
HORIZONTAL_UNITS: METERS
HORIZONTAL_RESOLUTION: 1.00000
SECONDARY_HORIZONTAL_DATUM: NAD27
XY_ORIGIN: 402626.00000 5088163.00000
SECONDARY_XY_ORIGIN: 402688.04800 5087952.22300
NATION: US
NATION: "SCIENCE
STATE: MT
NW_QUAD_CORNER_XY: 403100.92700 5087862.95500
NE_QUAD_CORNER_XY: 407945.85800 5087788.88900
SE_QUAD_CORNERY_XY: 407842.48000 5080844.86900
SW_QUAD_CORNER_XY: 402992.10600 5080918.94100
SECONDARY_NW_QUAD_XY: 403098.00800 5087645.04900
SECONDARY_NE_QUAD_XY: 407943.08500 5087570.98000
SECONDARY_SE_QUAD_XY: 407839.70700 5080627.00400
SECONDARY_SW_QUAD_XY: 402989.18700 5080701.07800
RMSE_XY: 1.00000
IMAGE_SOURCE: BLACK AND WHITE FILM
SOURCE_IMAGE_ID: NAPP 9484 150
SOURCE_IMAGE_DATE: 1995 08 14
SOURCE_IMAGE_ID: NAPP 9484 120
SOURCE_IMAGE_DATE: 1995 08 14
SOURCE_IMAGE_ID: NAPP 9484 149
SOURCE_IMAGE_DATE: 1995 08 14
SOURCE_DEM_DATE: 1960 00 00
AGENCY: WESTERN MAPPING CENTER (WMC)
PRODUCER: UNDEFINED
PRODUCTION_SYSTEM: GIS/MAGIC
COMPRESSION: UNDEFINED
STANDARD_VERSION: 1996 12
METADATA_DATE: 2000 05 31
DATA_FILE_SIZE: 42882609
BYTE_COUNT: 5621
