FILENAME: O4511205.SWS.1076835.tif
QUADRANGLE_NAME: HOMESTAKE
QUADRANT: SW
WEST_LONGITUDE: -112 30 0.00000
EAST_LONGITUDE: -112 26 15.00000
NORTH_LATITUDE: 45 56 15.00000
SOUTH_LATITUDE: 45 52 30.00000
PRODUCTION_DATE: 2000 3 22
RASTER_ORDER: LEFT_RIGHT/TOP_BOTTOM
BAND_ORGANIZATION: SINGLE FILE
BAND_CONTENT: BLACK&WHITE
BAND_CONTENT: UNDEFINED
BAND_CONTENT: UNDEFINED
BITS_PER_PIXEL: 8
SAMPLES_AND_LINES: 5645 7644
HORIZONTAL_DATUM: NAD83
HORIZONTAL_COORDINATE_SYSTEM: UTM
COORDINATE_ZONE: 12
HORIZONTAL_UNITS: METERS
HORIZONTAL_RESOLUTION: 1.00000
SECONDARY_HORIZONTAL_DATUM: NAD27
XY_ORIGIN: 383223.00000 5088498.00000
SECONDARY_XY_ORIGIN: 383285.78800 5088287.01800
NATION: US
NATION: "SCIENCE
STATE: MT
NW_QUAD_CORNER_XY: 383721.23900 5088197.21700
NE_QUAD_CORNER_XY: 388566.15500 5088107.95200
SE_QUAD_CORNERY_XY: 388441.00500 5081163.95400
SW_QUAD_CORNER_XY: 383590.64500 5081253.22500
SECONDARY_NW_QUAD_XY: 383717.73600 5087979.32100
SECONDARY_NE_QUAD_XY: 388562.79800 5087890.05300
SECONDARY_SE_QUAD_XY: 388437.64800 5080946.09800
SECONDARY_SW_QUAD_XY: 383587.14300 5081035.37200
RMSE_XY: 2.90000
IMAGE_SOURCE: BLACK AND WHITE FILM
SOURCE_IMAGE_ID: NAPP 8382 180
SOURCE_IMAGE_DATE: 1995 08 01
SOURCE_IMAGE_ID: NAPP 8382 181
SOURCE_IMAGE_DATE: 1995 08 01
SOURCE_IMAGE_ID: NAPP 8382 179
SOURCE_IMAGE_DATE: 1995 08 01
SOURCE_DEM_DATE: 1960 00 00
AGENCY: WESTERN MAPPING CENTER (WMC)
PRODUCER: UNDEFINED
PRODUCTION_SYSTEM: GIS/MAGIC
COMPRESSION: UNDEFINED
STANDARD_VERSION: 1996 12
METADATA_DATE: 2000 05 29
DATA_FILE_SIZE: 43156025
BYTE_COUNT: 5645
