FILENAME: O4511203.NWS.1076797.tif
QUADRANGLE_NAME: BUXTON
QUADRANT: NW
WEST_LONGITUDE: -112 45 0.00000
EAST_LONGITUDE: -112 41 15.00000
NORTH_LATITUDE: 46 0 0.00000
SOUTH_LATITUDE: 45 56 15.00000
PRODUCTION_DATE: 2000 3 24
RASTER_ORDER: LEFT_RIGHT/TOP_BOTTOM
BAND_ORGANIZATION: SINGLE FILE
BAND_CONTENT: BLACK&WHITE
BAND_CONTENT: UNDEFINED
BAND_CONTENT: UNDEFINED
BITS_PER_PIXEL: 8
SAMPLES_AND_LINES: 5662 7659
HORIZONTAL_DATUM: NAD83
HORIZONTAL_COORDINATE_SYSTEM: UTM
COORDINATE_ZONE: 12
HORIZONTAL_UNITS: METERS
HORIZONTAL_RESOLUTION: 1.00000
SECONDARY_HORIZONTAL_DATUM: NAD27
XY_ORIGIN: 363973.00000 5095837.00000
SECONDARY_XY_ORIGIN: 364036.18300 5095625.89700
NATION: US
NATION: "SCIENCE
STATE: MT
NW_QUAD_CORNER_XY: 364494.15600 5095536.31900
NE_QUAD_CORNER_XY: 369333.60300 5095431.85900
SE_QUAD_CORNERY_XY: 369186.51900 5088487.81600
SW_QUAD_CORNER_XY: 364341.62200 5088592.28400
SECONDARY_NW_QUAD_XY: 364490.06800 5095318.39200
SECONDARY_NE_QUAD_XY: 369329.66100 5095213.92900
SECONDARY_SE_QUAD_XY: 369182.57800 5088269.92900
SECONDARY_SW_QUAD_XY: 364337.53400 5088374.39900
RMSE_XY: 2.10000
IMAGE_SOURCE: BLACK AND WHITE FILM
SOURCE_IMAGE_ID: NAPP 9483 042
SOURCE_IMAGE_DATE: 1995 08 14
SOURCE_IMAGE_ID: NAPP 8382 044
SOURCE_IMAGE_DATE: 1995 08 01
SOURCE_DEM_DATE: 1956 00 00
AGENCY: WESTERN MAPPING CENTER (WMC)
PRODUCER: UNDEFINED
PRODUCTION_SYSTEM: GIS/MAGIC
COMPRESSION: UNDEFINED
STANDARD_VERSION: 1996 12
METADATA_DATE: 2000 05 29
DATA_FILE_SIZE: 43370920
BYTE_COUNT: 5662
