FILENAME: O4511201.NES.1076772.tif
QUADRANGLE_NAME: DICKIE PEAK
QUADRANT: NE
WEST_LONGITUDE: -112 56 15.00000
EAST_LONGITUDE: -112 52 30.00000
NORTH_LATITUDE: 46 0 0.00000
SOUTH_LATITUDE: 45 56 15.00000
PRODUCTION_DATE: 2000 4 4
RASTER_ORDER: LEFT_RIGHT/TOP_BOTTOM
BAND_ORGANIZATION: SINGLE FILE
BAND_CONTENT: BLACK&WHITE
BAND_CONTENT: UNDEFINED
BAND_CONTENT: UNDEFINED
BITS_PER_PIXEL: 8
SAMPLES_AND_LINES: 5679 7670
HORIZONTAL_DATUM: NAD83
HORIZONTAL_COORDINATE_SYSTEM: UTM
COORDINATE_ZONE: 12
HORIZONTAL_UNITS: METERS
HORIZONTAL_RESOLUTION: 1.00000
SECONDARY_HORIZONTAL_DATUM: NAD27
XY_ORIGIN: 349438.00000 5096173.00000
SECONDARY_XY_ORIGIN: 349501.35200 5095961.77000
NATION: US
NATION: "SCIENCE
STATE: MT
NW_QUAD_CORNER_XY: 349975.85000 5095872.50500
NE_QUAD_CORNER_XY: 354815.28000 5095756.64200
SE_QUAD_CORNERY_XY: 354651.84300 5088812.62200
SW_QUAD_CORNER_XY: 349806.96100 5088928.49400
SECONDARY_NW_QUAD_XY: 349971.32400 5095654.58900
SECONDARY_NE_QUAD_XY: 354810.90000 5095538.72200
SECONDARY_SE_QUAD_XY: 354647.46300 5088594.74500
SECONDARY_SW_QUAD_XY: 349802.43600 5088710.62000
RMSE_XY: 3.60000
IMAGE_SOURCE: BLACK AND WHITE FILM
SOURCE_IMAGE_ID: NAPP 9485 217
SOURCE_IMAGE_DATE: 1995 08 20
SOURCE_IMAGE_ID: NAPP 9485 112
SOURCE_IMAGE_DATE: 1995 08 20
SOURCE_IMAGE_ID: NAPP 9483 145
SOURCE_IMAGE_DATE: 1995 08 14
SOURCE_IMAGE_ID: NAPP 9485 215
SOURCE_IMAGE_DATE: 1995 08 20
SOURCE_IMAGE_ID: NAPP 9485 216
SOURCE_IMAGE_DATE: 1995 08 20
SOURCE_DEM_DATE: 1956 00 00
AGENCY: WESTERN MAPPING CENTER (WMC)
PRODUCER: UNDEFINED
PRODUCTION_SYSTEM: GIS/MAGIC
COMPRESSION: UNDEFINED
STANDARD_VERSION: 1996 12
METADATA_DATE: 2000 05 29
DATA_FILE_SIZE: 43563609
BYTE_COUNT: 5679
