FILENAME: O4511364.NES.1076636.tif
QUADRANGLE_NAME: GRANT
QUADRANT: NE
WEST_LONGITUDE: -113 3 45.00000
EAST_LONGITUDE: -113 0 0.00000
NORTH_LATITUDE: 45 7 30.00000
SOUTH_LATITUDE: 45 3 45.00000
PRODUCTION_DATE: 2000 5 10
RASTER_ORDER: LEFT_RIGHT/TOP_BOTTOM
BAND_ORGANIZATION: SINGLE FILE
BAND_CONTENT: BLACK&WHITE
BAND_CONTENT: UNDEFINED
BAND_CONTENT: UNDEFINED
BITS_PER_PIXEL: 8
SAMPLES_AND_LINES: 5764 7676
HORIZONTAL_DATUM: NAD83
HORIZONTAL_COORDINATE_SYSTEM: UTM
COORDINATE_ZONE: 12
HORIZONTAL_UNITS: METERS
HORIZONTAL_RESOLUTION: 1.00000
SECONDARY_HORIZONTAL_DATUM: NAD27
XY_ORIGIN: 337250.00000 4999206.00000
SECONDARY_XY_ORIGIN: 337313.86300 4998995.53600
NATION: US
NATION: "SCIENCE
STATE: MT
NW_QUAD_CORNER_XY: 337797.39400 4998905.76900
NE_QUAD_CORNER_XY: 342712.61800 4998782.23200
SE_QUAD_CORNERY_XY: 342540.89500 4991839.16800
SW_QUAD_CORNER_XY: 337620.29900 4991962.70600
SECONDARY_NW_QUAD_XY: 337792.59300 4998688.53000
SECONDARY_NE_QUAD_XY: 342707.96300 4998564.99000
SECONDARY_SE_QUAD_XY: 342536.24000 4991621.98000
SECONDARY_SW_QUAD_XY: 337615.50000 4991745.52100
RMSE_XY: 1.90000
IMAGE_SOURCE: BLACK AND WHITE FILM
SOURCE_IMAGE_ID: NAPP 8404 022
SOURCE_IMAGE_DATE: 1995 09 12
SOURCE_DEM_DATE: 1956 00 00
AGENCY: WESTERN MAPPING CENTER (WMC)
PRODUCER: UNDEFINED
PRODUCTION_SYSTEM: GIS/MAGIC
COMPRESSION: UNDEFINED
STANDARD_VERSION: 1996 12
METADATA_DATE: 2000 05 25
DATA_FILE_SIZE: 44250228
BYTE_COUNT: 5764
