FILENAME: O4511363.SES.1076586.tif
QUADRANGLE_NAME: BACHELOR MOUNTAIN
QUADRANT: SE
WEST_LONGITUDE: -113 11 15.00000
EAST_LONGITUDE: -113 7 30.00000
NORTH_LATITUDE: 45 3 45.00000
SOUTH_LATITUDE: 45 0 0.00000
PRODUCTION_DATE: 2000 5 3
RASTER_ORDER: LEFT_RIGHT/TOP_BOTTOM
BAND_ORGANIZATION: SINGLE FILE
BAND_CONTENT: BLACK&WHITE
BAND_CONTENT: UNDEFINED
BAND_CONTENT: UNDEFINED
BITS_PER_PIXEL: 8
SAMPLES_AND_LINES: 5780 7684
HORIZONTAL_DATUM: NAD83
HORIZONTAL_COORDINATE_SYSTEM: UTM
COORDINATE_ZONE: 12
HORIZONTAL_UNITS: METERS
HORIZONTAL_RESOLUTION: 1.00000
SECONDARY_HORIZONTAL_DATUM: NAD27
XY_ORIGIN: 327221.00000 4992522.00000
SECONDARY_XY_ORIGIN: 327284.91100 4992311.32200
NATION: US
NATION: "SCIENCE
STATE: MT
NW_QUAD_CORNER_XY: 327779.11000 4992221.19500
NE_QUAD_CORNER_XY: 332699.70400 4992090.04800
SE_QUAD_CORNERY_XY: 332517.43900 4985147.05100
SW_QUAD_CORNER_XY: 327591.47800 4985278.19800
SECONDARY_NW_QUAD_XY: 327774.01900 4992004.01800
SECONDARY_NE_QUAD_XY: 332694.75900 4991872.86700
SECONDARY_SE_QUAD_XY: 332512.49500 4984929.92500
SECONDARY_SW_QUAD_XY: 327586.38900 4985061.07600
RMSE_XY: 1.00000
IMAGE_SOURCE: BLACK AND WHITE FILM
SOURCE_IMAGE_ID: NAPP 8393 243
SOURCE_IMAGE_DATE: 1995 08 19
SOURCE_IMAGE_ID: NAPP 8393 224
SOURCE_IMAGE_DATE: 1995 08 19
SOURCE_IMAGE_ID: NAPP 8393 242
SOURCE_IMAGE_DATE: 1995 08 19
SOURCE_DEM_DATE: 1998 00 00
AGENCY: WESTERN MAPPING CENTER (WMC)
PRODUCER: UNDEFINED
PRODUCTION_SYSTEM: GIS/MAGIC
COMPRESSION: UNDEFINED
STANDARD_VERSION: 1996 12
METADATA_DATE: 2000 05 19
DATA_FILE_SIZE: 44419300
BYTE_COUNT: 5780
