FILENAME: O4511362.NWS.1076537.tif
QUADRANGLE_NAME: COYOTE CREEK
QUADRANT: NW
WEST_LONGITUDE: -113 22 30.00000
EAST_LONGITUDE: -113 18 45.00000
NORTH_LATITUDE: 45 7 30.00000
SOUTH_LATITUDE: 45 3 45.00000
PRODUCTION_DATE: 2000 4 24
RASTER_ORDER: LEFT_RIGHT/TOP_BOTTOM
BAND_ORGANIZATION: SINGLE FILE
BAND_CONTENT: BLACK&WHITE
BAND_CONTENT: UNDEFINED
BAND_CONTENT: UNDEFINED
BITS_PER_PIXEL: 8
SAMPLES_AND_LINES: 5792 7695
HORIZONTAL_DATUM: NAD83
HORIZONTAL_COORDINATE_SYSTEM: UTM
COORDINATE_ZONE: 12
HORIZONTAL_UNITS: METERS
HORIZONTAL_RESOLUTION: 1.00000
SECONDARY_HORIZONTAL_DATUM: NAD27
XY_ORIGIN: 312646.00000 4999881.00000
SECONDARY_XY_ORIGIN: 312710.13700 4999670.04500
NATION: US
NATION: "SCIENCE
STATE: MT
NW_QUAD_CORNER_XY: 313221.28300 4999580.52800
NE_QUAD_CORNER_XY: 318136.50400 4999437.96600
SE_QUAD_CORNERY_XY: 317937.92100 4992494.90500
SW_QUAD_CORNER_XY: 313017.32700 4992637.46800
SECONDARY_NW_QUAD_XY: 313215.75400 4999363.30900
SECONDARY_NE_QUAD_XY: 318131.12100 4999220.74200
SECONDARY_SE_QUAD_XY: 317932.53900 4992277.73600
SECONDARY_SW_QUAD_XY: 313011.80000 4992420.30300
RMSE_XY: 3.00000
IMAGE_SOURCE: BLACK AND WHITE FILM
SOURCE_IMAGE_ID: NAPP 8391 105
SOURCE_IMAGE_DATE: 1995 08 01
SOURCE_IMAGE_ID: NAPP 8391 106
SOURCE_IMAGE_DATE: 1995 08 01
SOURCE_DEM_DATE: 2000 01 01
AGENCY: WESTERN MAPPING CENTER (WMC)
PRODUCER: UNDEFINED
PRODUCTION_SYSTEM: GIS/MAGIC
COMPRESSION: UNDEFINED
STANDARD_VERSION: 1996 12
METADATA_DATE: 2000 05 19
DATA_FILE_SIZE: 44575232
BYTE_COUNT: 5792
