FILENAME: O4511362.SWS.1076539.tif
QUADRANGLE_NAME: COYOTE CREEK
QUADRANT: SW
WEST_LONGITUDE: -113 22 30.00000
EAST_LONGITUDE: -113 18 45.00000
NORTH_LATITUDE: 45 3 45.00000
SOUTH_LATITUDE: 45 0 0.00000
PRODUCTION_DATE: 2000 4 24
RASTER_ORDER: LEFT_RIGHT/TOP_BOTTOM
BAND_ORGANIZATION: SINGLE FILE
BAND_CONTENT: BLACK&WHITE
BAND_CONTENT: UNDEFINED
BAND_CONTENT: UNDEFINED
BITS_PER_PIXEL: 8
SAMPLES_AND_LINES: 5796 7695
HORIZONTAL_DATUM: NAD83
HORIZONTAL_COORDINATE_SYSTEM: UTM
COORDINATE_ZONE: 12
HORIZONTAL_UNITS: METERS
HORIZONTAL_RESOLUTION: 1.00000
SECONDARY_HORIZONTAL_DATUM: NAD27
XY_ORIGIN: 312443.00000 4992938.00000
SECONDARY_XY_ORIGIN: 312507.08500 4992727.03500
NATION: US
NATION: "SCIENCE
STATE: MT
NW_QUAD_CORNER_XY: 313017.32700 4992637.46800
NE_QUAD_CORNER_XY: 317937.92100 4992494.90500
SE_QUAD_CORNERY_XY: 317739.55600 4985551.90800
SW_QUAD_CORNER_XY: 312813.59500 4985694.47100
SECONDARY_NW_QUAD_XY: 313011.80000 4992420.30300
SECONDARY_NE_QUAD_XY: 317932.53900 4992277.73600
SECONDARY_SE_QUAD_XY: 317734.17600 4985334.79400
SECONDARY_SW_QUAD_XY: 312808.06900 4985477.36100
RMSE_XY: 2.40000
IMAGE_SOURCE: BLACK AND WHITE FILM
SOURCE_IMAGE_ID: NAPP 8391 107
SOURCE_IMAGE_DATE: 1995 08 01
SOURCE_IMAGE_ID: NAPP 8391 108
SOURCE_IMAGE_DATE: 1995 08 01
SOURCE_IMAGE_ID: NAPP 8391 126
SOURCE_IMAGE_DATE: 1995 08 01
SOURCE_DEM_DATE: 2000 01 01
AGENCY: WESTERN MAPPING CENTER (WMC)
PRODUCER: UNDEFINED
PRODUCTION_SYSTEM: GIS/MAGIC
COMPRESSION: UNDEFINED
STANDARD_VERSION: 1996 12
METADATA_DATE: 2000 05 19
DATA_FILE_SIZE: 44606016
BYTE_COUNT: 5796
