FILENAME: O4511355.SES.1076598.tif
QUADRANGLE_NAME: BRAYS CANYON
QUADRANT: SE
WEST_LONGITUDE: -113 11 15.00000
EAST_LONGITUDE: -113 7 30.00000
NORTH_LATITUDE: 45 11 15.00000
SOUTH_LATITUDE: 45 7 30.00000
PRODUCTION_DATE: 2000 5 3
RASTER_ORDER: LEFT_RIGHT/TOP_BOTTOM
BAND_ORGANIZATION: SINGLE FILE
BAND_CONTENT: BLACK&WHITE
BAND_CONTENT: UNDEFINED
BAND_CONTENT: UNDEFINED
BITS_PER_PIXEL: 8
SAMPLES_AND_LINES: 5770 7684
HORIZONTAL_DATUM: NAD83
HORIZONTAL_COORDINATE_SYSTEM: UTM
COORDINATE_ZONE: 12
HORIZONTAL_UNITS: METERS
HORIZONTAL_RESOLUTION: 1.00000
SECONDARY_HORIZONTAL_DATUM: NAD27
XY_ORIGIN: 327596.00000 5006408.00000
SECONDARY_XY_ORIGIN: 327660.05100 5006197.27600
NATION: US
NATION: "SCIENCE
STATE: MT
NW_QUAD_CORNER_XY: 328154.99100 5006107.38500
NE_QUAD_CORNER_XY: 333064.83600 5005976.24000
SE_QUAD_CORNERY_XY: 332882.17000 4999033.11100
SW_QUAD_CORNER_XY: 327966.94700 4999164.25700
SECONDARY_NW_QUAD_XY: 328149.89800 5005890.10000
SECONDARY_NE_QUAD_XY: 333059.88800 5005758.95100
SECONDARY_SE_QUAD_XY: 332877.22400 4998815.87600
SECONDARY_SW_QUAD_XY: 327961.85500 4998947.02600
RMSE_XY: 1.40000
IMAGE_SOURCE: BLACK AND WHITE FILM
SOURCE_IMAGE_ID: NAPP 8393 247
SOURCE_IMAGE_DATE: 1995 08 19
SOURCE_IMAGE_ID: NAPP 8393 248
SOURCE_IMAGE_DATE: 1995 08 19
SOURCE_DEM_DATE: 1997 00 00
AGENCY: WESTERN MAPPING CENTER (WMC)
PRODUCER: UNDEFINED
PRODUCTION_SYSTEM: GIS/MAGIC
COMPRESSION: UNDEFINED
STANDARD_VERSION: 1996 12
METADATA_DATE: 2000 05 25
DATA_FILE_SIZE: 44342450
BYTE_COUNT: 5770
