FILENAME: O4511354.NWS.1076533.tif
QUADRANGLE_NAME: PETERSON LAKE
QUADRANT: NW
WEST_LONGITUDE: -113 22 30.00000
EAST_LONGITUDE: -113 18 45.00000
NORTH_LATITUDE: 45 15 0.00000
SOUTH_LATITUDE: 45 11 15.00000
PRODUCTION_DATE: 2000 4 24
RASTER_ORDER: LEFT_RIGHT/TOP_BOTTOM
BAND_ORGANIZATION: SINGLE FILE
BAND_CONTENT: BLACK&WHITE
BAND_CONTENT: UNDEFINED
BAND_CONTENT: UNDEFINED
BITS_PER_PIXEL: 8
SAMPLES_AND_LINES: 5782 7695
HORIZONTAL_DATUM: NAD83
HORIZONTAL_COORDINATE_SYSTEM: UTM
COORDINATE_ZONE: 12
HORIZONTAL_UNITS: METERS
HORIZONTAL_RESOLUTION: 1.00000
SECONDARY_HORIZONTAL_DATUM: NAD27
XY_ORIGIN: 313054.00000 5013767.00000
SECONDARY_XY_ORIGIN: 313118.24000 5013556.06600
NATION: US
NATION: "SCIENCE
STATE: MT
NW_QUAD_CORNER_XY: 313629.86500 5013466.83800
NE_QUAD_CORNER_XY: 318534.32200 5013324.27900
SE_QUAD_CORNERY_XY: 318335.30400 5006381.09000
SW_QUAD_CORNER_XY: 313425.46200 5006523.65200
SECONDARY_NW_QUAD_XY: 313624.33300 5013249.51300
SECONDARY_NE_QUAD_XY: 318528.93600 5013106.95000
SECONDARY_SE_QUAD_XY: 318329.91900 5006163.81400
SECONDARY_SW_QUAD_XY: 313419.93200 5006306.37900
RMSE_XY: 2.80000
IMAGE_SOURCE: BLACK AND WHITE FILM
SOURCE_IMAGE_ID: NAPP 8391 101
SOURCE_IMAGE_DATE: 1995 08 01
SOURCE_IMAGE_ID: NAPP 8391 058
SOURCE_IMAGE_DATE: 1995 08 01
SOURCE_IMAGE_ID: NAPP 8391 099
SOURCE_IMAGE_DATE: 1995 08 01
SOURCE_DEM_DATE: 2000 01 01
AGENCY: WESTERN MAPPING CENTER (WMC)
PRODUCER: UNDEFINED
PRODUCTION_SYSTEM: GIS/MAGIC
COMPRESSION: UNDEFINED
STANDARD_VERSION: 1996 12
METADATA_DATE: 2000 05 19
DATA_FILE_SIZE: 44498272
BYTE_COUNT: 5782
