FILENAME: O4511354.SWS.1076535.tif
QUADRANGLE_NAME: PETERSON LAKE
QUADRANT: SW
WEST_LONGITUDE: -113 22 30.00000
EAST_LONGITUDE: -113 18 45.00000
NORTH_LATITUDE: 45 11 15.00000
SOUTH_LATITUDE: 45 7 30.00000
PRODUCTION_DATE: 2000 4 24
RASTER_ORDER: LEFT_RIGHT/TOP_BOTTOM
BAND_ORGANIZATION: SINGLE FILE
BAND_CONTENT: BLACK&WHITE
BAND_CONTENT: UNDEFINED
BAND_CONTENT: UNDEFINED
BITS_PER_PIXEL: 8
SAMPLES_AND_LINES: 5787 7695
HORIZONTAL_DATUM: NAD83
HORIZONTAL_COORDINATE_SYSTEM: UTM
COORDINATE_ZONE: 12
HORIZONTAL_UNITS: METERS
HORIZONTAL_RESOLUTION: 1.00000
SECONDARY_HORIZONTAL_DATUM: NAD27
XY_ORIGIN: 312850.00000 5006824.00000
SECONDARY_XY_ORIGIN: 312914.18900 5006613.05500
NATION: US
NATION: "SCIENCE
STATE: MT
NW_QUAD_CORNER_XY: 313425.46200 5006523.65200
NE_QUAD_CORNER_XY: 318335.30400 5006381.09000
SE_QUAD_CORNERY_XY: 318136.50400 4999437.96600
SW_QUAD_CORNER_XY: 313221.28300 4999580.52800
SECONDARY_NW_QUAD_XY: 313419.93200 5006306.37900
SECONDARY_NE_QUAD_XY: 318329.91900 5006163.81400
SECONDARY_SE_QUAD_XY: 318131.12100 4999220.74200
SECONDARY_SW_QUAD_XY: 313215.75400 4999363.30900
RMSE_XY: 3.30000
IMAGE_SOURCE: BLACK AND WHITE FILM
SOURCE_IMAGE_ID: NAPP 8391 103
SOURCE_IMAGE_DATE: 1995 08 01
SOURCE_IMAGE_ID: NAPP 8391 129
SOURCE_IMAGE_DATE: 1995 08 01
SOURCE_DEM_DATE: 2000 01 01
AGENCY: WESTERN MAPPING CENTER (WMC)
PRODUCER: UNDEFINED
PRODUCTION_SYSTEM: GIS/MAGIC
COMPRESSION: UNDEFINED
STANDARD_VERSION: 1996 12
METADATA_DATE: 2000 05 19
DATA_FILE_SIZE: 44536752
BYTE_COUNT: 5787
