FILENAME: O4511348.NWS.1076661.tif
QUADRANGLE_NAME: POLARIS
QUADRANT: NW
WEST_LONGITUDE: -113 7 30.00000
EAST_LONGITUDE: -113 3 45.00000
NORTH_LATITUDE: 45 22 30.00000
SOUTH_LATITUDE: 45 18 45.00000
PRODUCTION_DATE: 2000 5 10
RASTER_ORDER: LEFT_RIGHT/TOP_BOTTOM
BAND_ORGANIZATION: SINGLE FILE
BAND_CONTENT: BLACK&WHITE
BAND_CONTENT: UNDEFINED
BAND_CONTENT: UNDEFINED
BITS_PER_PIXEL: 8
SAMPLES_AND_LINES: 5749 7681
HORIZONTAL_DATUM: NAD83
HORIZONTAL_COORDINATE_SYSTEM: UTM
COORDINATE_ZONE: 12
HORIZONTAL_UNITS: METERS
HORIZONTAL_RESOLUTION: 1.00000
SECONDARY_HORIZONTAL_DATUM: NAD27
XY_ORIGIN: 333060.00000 5027107.00000
SECONDARY_XY_ORIGIN: 333123.88800 5026896.17600
NATION: US
NATION: "SCIENCE
STATE: MT
NW_QUAD_CORNER_XY: 333614.03300 5026806.02100
NE_QUAD_CORNER_XY: 338507.71200 5026678.68800
SE_QUAD_CORNERY_XY: 338329.84200 5019735.35900
SW_QUAD_CORNER_XY: 333430.76800 5019862.69500
SECONDARY_NW_QUAD_XY: 333609.08000 5026588.57800
SECONDARY_NE_QUAD_XY: 338502.90600 5026461.24100
SECONDARY_SE_QUAD_XY: 338325.03700 5019517.96200
SECONDARY_SW_QUAD_XY: 333425.81700 5019645.30200
RMSE_XY: 1.30000
IMAGE_SOURCE: BLACK AND WHITE FILM
SOURCE_IMAGE_ID: NAPP 8404 077
SOURCE_IMAGE_DATE: 1995 09 12
SOURCE_IMAGE_ID: NAPP 8404 076
SOURCE_IMAGE_DATE: 1995 09 12
SOURCE_DEM_DATE: 1997 00 00
AGENCY: WESTERN MAPPING CENTER (WMC)
PRODUCER: UNDEFINED
PRODUCTION_SYSTEM: GIS/MAGIC
COMPRESSION: UNDEFINED
STANDARD_VERSION: 1996 12
METADATA_DATE: 2000 05 25
DATA_FILE_SIZE: 44163818
BYTE_COUNT: 5749
