FILENAME: O4511347.NES.1076592.tif
QUADRANGLE_NAME: TASH PEAK
QUADRANT: NE
WEST_LONGITUDE: -113 11 15.00000
EAST_LONGITUDE: -113 7 30.00000
NORTH_LATITUDE: 45 22 30.00000
SOUTH_LATITUDE: 45 18 45.00000
PRODUCTION_DATE: 2000 5 3
RASTER_ORDER: LEFT_RIGHT/TOP_BOTTOM
BAND_ORGANIZATION: SINGLE FILE
BAND_CONTENT: BLACK&WHITE
BAND_CONTENT: UNDEFINED
BAND_CONTENT: UNDEFINED
BITS_PER_PIXEL: 8
SAMPLES_AND_LINES: 5755 7684
HORIZONTAL_DATUM: NAD83
HORIZONTAL_COORDINATE_SYSTEM: UTM
COORDINATE_ZONE: 12
HORIZONTAL_UNITS: METERS
HORIZONTAL_RESOLUTION: 1.00000
SECONDARY_HORIZONTAL_DATUM: NAD27
XY_ORIGIN: 328161.00000 5027238.00000
SECONDARY_XY_ORIGIN: 328224.97600 5027027.11500
NATION: US
NATION: "SCIENCE
STATE: MT
NW_QUAD_CORNER_XY: 328720.35500 5026937.15900
NE_QUAD_CORNER_XY: 333614.03300 5026806.02100
SE_QUAD_CORNERY_XY: 333430.76800 5019862.69500
SW_QUAD_CORNER_XY: 328531.69500 5019993.83600
SECONDARY_NW_QUAD_XY: 328715.25800 5026719.71900
SECONDARY_NE_QUAD_XY: 333609.08000 5026588.57800
SECONDARY_SE_QUAD_XY: 333425.81700 5019645.30200
SECONDARY_SW_QUAD_XY: 328526.59900 5019776.44700
RMSE_XY: 1.10000
IMAGE_SOURCE: BLACK AND WHITE FILM
SOURCE_IMAGE_ID: NAPP 8393 253
SOURCE_IMAGE_DATE: 1995 08 19
SOURCE_IMAGE_ID: NAPP 8393 214
SOURCE_IMAGE_DATE: 1995 08 19
SOURCE_DEM_DATE: 1956 00 00
AGENCY: WESTERN MAPPING CENTER (WMC)
PRODUCER: UNDEFINED
PRODUCTION_SYSTEM: GIS/MAGIC
COMPRESSION: UNDEFINED
STANDARD_VERSION: 1996 12
METADATA_DATE: 2000 05 25
DATA_FILE_SIZE: 44227175
BYTE_COUNT: 5755
