FILENAME: O4511346.SES.1076550.tif
QUADRANGLE_NAME: BUTCH HILL
QUADRANT: SE
WEST_LONGITUDE: -113 18 45.00000
EAST_LONGITUDE: -113 15 0.00000
NORTH_LATITUDE: 45 18 45.00000
SOUTH_LATITUDE: 45 15 0.00000
PRODUCTION_DATE: 2000 4 25
RASTER_ORDER: LEFT_RIGHT/TOP_BOTTOM
BAND_ORGANIZATION: SINGLE FILE
BAND_CONTENT: BLACK&WHITE
BAND_CONTENT: UNDEFINED
BAND_CONTENT: UNDEFINED
BITS_PER_PIXEL: 8
SAMPLES_AND_LINES: 5771 7691
HORIZONTAL_DATUM: NAD83
HORIZONTAL_COORDINATE_SYSTEM: UTM
COORDINATE_ZONE: 12
HORIZONTAL_UNITS: METERS
HORIZONTAL_RESOLUTION: 1.00000
SECONDARY_HORIZONTAL_DATUM: NAD27
XY_ORIGIN: 318163.00000 5020568.00000
SECONDARY_XY_ORIGIN: 318227.15700 5020357.06900
NATION: US
NATION: "SCIENCE
STATE: MT
NW_QUAD_CORNER_XY: 318733.55700 5020267.53200
NE_QUAD_CORNER_XY: 323632.62500 5020128.78100
SE_QUAD_CORNERY_XY: 323438.78000 5013185.52600
SW_QUAD_CORNER_XY: 318534.32200 5013324.27900
SECONDARY_NW_QUAD_XY: 318728.16900 5020050.15100
SECONDARY_NE_QUAD_XY: 323627.38300 5019911.39600
SECONDARY_SE_QUAD_XY: 323433.54000 5012968.19300
SECONDARY_SW_QUAD_XY: 318528.93600 5013106.95000
RMSE_XY: 2.20000
IMAGE_SOURCE: BLACK AND WHITE FILM
SOURCE_IMAGE_ID: NAPP 8391 134
SOURCE_IMAGE_DATE: 1995 08 01
SOURCE_IMAGE_ID: NAPP 8391 136
SOURCE_IMAGE_DATE: 1995 08 01
SOURCE_IMAGE_ID: NAPP 8393 216
SOURCE_IMAGE_DATE: 1995 08 19
SOURCE_DEM_DATE: 1992 00 00
AGENCY: WESTERN MAPPING CENTER (WMC)
PRODUCER: UNDEFINED
PRODUCTION_SYSTEM: GIS/MAGIC
COMPRESSION: UNDEFINED
STANDARD_VERSION: 1996 12
METADATA_DATE: 2000 05 19
DATA_FILE_SIZE: 44390532
BYTE_COUNT: 5771
