FILENAME: O4511345.SES.1076510.tif
QUADRANGLE_NAME: JACKSON
QUADRANT: SE
WEST_LONGITUDE: -113 26 15.00000
EAST_LONGITUDE: -113 22 30.00000
NORTH_LATITUDE: 45 18 45.00000
SOUTH_LATITUDE: 45 15 0.00000
PRODUCTION_DATE: 2000 4 18
RASTER_ORDER: LEFT_RIGHT/TOP_BOTTOM
BAND_ORGANIZATION: SINGLE FILE
BAND_CONTENT: BLACK&WHITE
BAND_CONTENT: UNDEFINED
BAND_CONTENT: UNDEFINED
BITS_PER_PIXEL: 8
SAMPLES_AND_LINES: 5782 7699
HORIZONTAL_DATUM: NAD83
HORIZONTAL_COORDINATE_SYSTEM: UTM
COORDINATE_ZONE: 12
HORIZONTAL_UNITS: METERS
HORIZONTAL_RESOLUTION: 1.00000
SECONDARY_HORIZONTAL_DATUM: NAD27
XY_ORIGIN: 308354.00000 5020857.00000
SECONDARY_XY_ORIGIN: 308418.23900 5020645.98100
NATION: US
NATION: "SCIENCE
STATE: MT
NW_QUAD_CORNER_XY: 308935.42700 5020556.45000
NE_QUAD_CORNER_XY: 313834.49100 5020410.08800
SE_QUAD_CORNERY_XY: 313629.86500 5013466.83800
SW_QUAD_CORNER_XY: 308725.41000 5013613.20300
SECONDARY_NW_QUAD_XY: 308929.74800 5020339.07800
SECONDARY_NE_QUAD_XY: 313828.95800 5020192.71200
SECONDARY_SE_QUAD_XY: 313624.33300 5013249.51300
SECONDARY_SW_QUAD_XY: 308719.73300 5013395.88300
RMSE_XY: 1.50000
IMAGE_SOURCE: BLACK AND WHITE FILM
SOURCE_IMAGE_ID: NAPP 8391 060
SOURCE_IMAGE_DATE: 1995 08 01
SOURCE_IMAGE_ID: NAPP 8391 059
SOURCE_IMAGE_DATE: 1995 08 01
SOURCE_DEM_DATE: 1992 00 00
AGENCY: WESTERN MAPPING CENTER (WMC)
PRODUCER: UNDEFINED
PRODUCTION_SYSTEM: GIS/MAGIC
COMPRESSION: UNDEFINED
STANDARD_VERSION: 1996 12
METADATA_DATE: 2000 05 19
DATA_FILE_SIZE: 44521400
BYTE_COUNT: 5782
