FILENAME: O4511344.SES.1076758.tif
QUADRANGLE_NAME: LOWER MINER LAKES
QUADRANT: SE
WEST_LONGITUDE: -113 33 45.00000
EAST_LONGITUDE: -113 30 0.00000
NORTH_LATITUDE: 45 18 45.00000
SOUTH_LATITUDE: 45 15 0.00000
PRODUCTION_DATE: 2000 4 17
RASTER_ORDER: LEFT_RIGHT/TOP_BOTTOM
BAND_ORGANIZATION: SINGLE FILE
BAND_CONTENT: BLACK&WHITE
BAND_CONTENT: UNDEFINED
BAND_CONTENT: UNDEFINED
BITS_PER_PIXEL: 8
SAMPLES_AND_LINES: 5793 7706
HORIZONTAL_DATUM: NAD83
HORIZONTAL_COORDINATE_SYSTEM: UTM
COORDINATE_ZONE: 12
HORIZONTAL_UNITS: METERS
HORIZONTAL_RESOLUTION: 1.00000
SECONDARY_HORIZONTAL_DATUM: NAD27
XY_ORIGIN: 298545.00000 5021161.00000
SECONDARY_XY_ORIGIN: 298609.29500 5020949.96100
NATION: US
NATION: "SCIENCE
STATE: MT
NW_QUAD_CORNER_XY: 299137.30700 5020860.59400
NE_QUAD_CORNER_XY: 304036.36600 5020706.61900
SE_QUAD_CORNERY_XY: 303820.95700 5013763.37500
SW_QUAD_CORNER_XY: 298916.50600 5013917.35300
SECONDARY_NW_QUAD_XY: 299131.33600 5020643.23000
SECONDARY_NE_QUAD_XY: 304030.54100 5020489.25100
SECONDARY_SE_QUAD_XY: 303815.13400 5013546.05900
SECONDARY_SW_QUAD_XY: 298910.53700 5013700.04100
RMSE_XY: 2.10000
IMAGE_SOURCE: BLACK AND WHITE FILM
SOURCE_IMAGE_ID: NAPP 8391 266
SOURCE_IMAGE_DATE: 1995 08 01
SOURCE_DEM_DATE: 2000 01 01
AGENCY: WESTERN MAPPING CENTER (WMC)
PRODUCER: UNDEFINED
PRODUCTION_SYSTEM: GIS/MAGIC
COMPRESSION: UNDEFINED
STANDARD_VERSION: 1996 12
METADATA_DATE: 2000 06 13
DATA_FILE_SIZE: 44646651
BYTE_COUNT: 5793
