FILENAME: O4511343.SES.47658.tif
QUADRANGLE_NAME: HOMER YOUNGS PEAK
QUADRANT: SE
WEST_LONGITUDE: -113 41 15.00000
EAST_LONGITUDE: -113 37 30.00000
NORTH_LATITUDE: 45 18 45.00000
SOUTH_LATITUDE: 45 15 0.00000
PRODUCTION_DATE: 1995 12 6
RASTER_ORDER: LEFT_RIGHT/TOP_BOTTOM
BAND_ORGANIZATION: SINGLE FILE
BAND_CONTENT: BLACK&WHITE
BAND_CONTENT: UNDEFINED
BAND_CONTENT: UNDEFINED
BITS_PER_PIXEL: 8
SAMPLES_AND_LINES: 5800 7720
HORIZONTAL_DATUM: NAD83
HORIZONTAL_COORDINATE_SYSTEM: UTM
COORDINATE_ZONE: 12
HORIZONTAL_UNITS: METERS
HORIZONTAL_RESOLUTION: 1.00000
SECONDARY_HORIZONTAL_DATUM: NAD27
XY_ORIGIN: 288730.00000 5021480.00000
SECONDARY_XY_ORIGIN: 288794.33100 5021268.98800
NATION: US
STATE: MT
STATE: ID
NW_QUAD_CORNER_XY: 289339.19600 5021179.96500
NE_QUAD_CORNER_XY: 294238.25000 5021018.37600
SE_QUAD_CORNERY_XY: 294012.05600 5014075.13800
SW_QUAD_CORNER_XY: 289107.60900 5014236.73000
SECONDARY_NW_QUAD_XY: 289332.93400 5020962.61100
SECONDARY_NE_QUAD_XY: 294232.13400 5020801.01700
SECONDARY_SE_QUAD_XY: 294005.94200 5013857.83100
SECONDARY_SW_QUAD_XY: 289101.34900 5014019.42800
RMSE_XY: 3.30000
IMAGE_SOURCE: BLACK AND WHITE FILM
SOURCE_IMAGE_ID: NAPP 4947 013
SOURCE_IMAGE_DATE: 1993 9 8
SOURCE_DEM_DATE: 1995 12 6
AGENCY: WESTERN MAPPING CENTER (WMC)
PRODUCER: Analytical Surveys
PRODUCTION_SYSTEM: ORBIT OR_RECTIFY V.5.2
COMPRESSION: UNDEFINED
STANDARD_VERSION: 1996 12
METADATA_DATE: 1997 7 10
DATA_FILE_SIZE: 44781800
BYTE_COUNT: 5800
