FILENAME: O4511340.NES.1076656.tif
QUADRANGLE_NAME: ELKHORN HOT SPRINGS
QUADRANT: NE
WEST_LONGITUDE: -113 3 45.00000
EAST_LONGITUDE: -113 0 0.00000
NORTH_LATITUDE: 45 30 0.00000
SOUTH_LATITUDE: 45 26 15.00000
PRODUCTION_DATE: 2000 5 10
RASTER_ORDER: LEFT_RIGHT/TOP_BOTTOM
BAND_ORGANIZATION: SINGLE FILE
BAND_CONTENT: BLACK&WHITE
BAND_CONTENT: UNDEFINED
BAND_CONTENT: UNDEFINED
BITS_PER_PIXEL: 8
SAMPLES_AND_LINES: 5732 7677
HORIZONTAL_DATUM: NAD83
HORIZONTAL_COORDINATE_SYSTEM: UTM
COORDINATE_ZONE: 12
HORIZONTAL_UNITS: METERS
HORIZONTAL_RESOLUTION: 1.00000
SECONDARY_HORIZONTAL_DATUM: NAD27
XY_ORIGIN: 338316.00000 5040866.00000
SECONDARY_XY_ORIGIN: 338379.61900 5040655.04000
NATION: US
NATION: "SCIENCE
STATE: MT
NW_QUAD_CORNER_XY: 338864.03200 5040565.54700
NE_QUAD_CORNER_XY: 343746.90700 5040442.02500
SE_QUAD_CORNERY_XY: 343574.05700 5033498.55900
SW_QUAD_CORNER_XY: 338685.77500 5033622.08400
SECONDARY_NW_QUAD_XY: 338859.22300 5040348.00000
SECONDARY_NE_QUAD_XY: 343742.24400 5040224.47500
SECONDARY_SE_QUAD_XY: 343569.39500 5033281.05800
SECONDARY_SW_QUAD_XY: 338680.96800 5033404.58700
RMSE_XY: 2.50000
IMAGE_SOURCE: BLACK AND WHITE FILM
SOURCE_IMAGE_ID: NAPP 9485 128
SOURCE_IMAGE_DATE: 1995 08 20
SOURCE_IMAGE_ID: NAPP 8404 011
SOURCE_IMAGE_DATE: 1995 09 12
SOURCE_IMAGE_ID: NAPP 8404 009
SOURCE_IMAGE_DATE: 1995 09 12
SOURCE_IMAGE_ID: NAPP 9485 130
SOURCE_IMAGE_DATE: 1995 08 20
SOURCE_IMAGE_ID: NAPP 9485 129
SOURCE_IMAGE_DATE: 1995 08 20
SOURCE_DEM_DATE: 1956 00 00
AGENCY: WESTERN MAPPING CENTER (WMC)
PRODUCER: UNDEFINED
PRODUCTION_SYSTEM: GIS/MAGIC
COMPRESSION: UNDEFINED
STANDARD_VERSION: 1996 12
METADATA_DATE: 2000 05 25
DATA_FILE_SIZE: 44010296
BYTE_COUNT: 5732
