FILENAME: O4511340.NWS.1076657.tif
QUADRANGLE_NAME: ELKHORN HOT SPRINGS
QUADRANT: NW
WEST_LONGITUDE: -113 7 30.00000
EAST_LONGITUDE: -113 3 45.00000
NORTH_LATITUDE: 45 30 0.00000
SOUTH_LATITUDE: 45 26 15.00000
PRODUCTION_DATE: 2000 5 10
RASTER_ORDER: LEFT_RIGHT/TOP_BOTTOM
BAND_ORGANIZATION: SINGLE FILE
BAND_CONTENT: BLACK&WHITE
BAND_CONTENT: UNDEFINED
BAND_CONTENT: UNDEFINED
BITS_PER_PIXEL: 8
SAMPLES_AND_LINES: 5739 7680
HORIZONTAL_DATUM: NAD83
HORIZONTAL_COORDINATE_SYSTEM: UTM
COORDINATE_ZONE: 12
HORIZONTAL_UNITS: METERS
HORIZONTAL_RESOLUTION: 1.00000
SECONDARY_HORIZONTAL_DATUM: NAD27
XY_ORIGIN: 333427.00000 5040993.00000
SECONDARY_XY_ORIGIN: 333490.73000 5040782.01100
NATION: US
NATION: "SCIENCE
STATE: MT
NW_QUAD_CORNER_XY: 333981.15900 5040692.87200
NE_QUAD_CORNER_XY: 338864.03200 5040565.54700
SE_QUAD_CORNERY_XY: 338685.77500 5033622.08400
SW_QUAD_CORNER_XY: 333797.49600 5033749.41400
SECONDARY_NW_QUAD_XY: 333976.20500 5040475.32900
SECONDARY_NE_QUAD_XY: 338859.22300 5040348.00000
SECONDARY_SE_QUAD_XY: 338680.96800 5033404.58700
SECONDARY_SW_QUAD_XY: 333792.54300 5033531.92000
RMSE_XY: 2.30000
IMAGE_SOURCE: BLACK AND WHITE FILM
SOURCE_IMAGE_ID: NAPP 8404 081
SOURCE_IMAGE_DATE: 1995 09 12
SOURCE_IMAGE_ID: NAPP 8404 080
SOURCE_IMAGE_DATE: 1995 09 12
SOURCE_IMAGE_ID: NAPP 8404 082
SOURCE_IMAGE_DATE: 1995 09 12
SOURCE_DEM_DATE: 1956 00 00
AGENCY: WESTERN MAPPING CENTER (WMC)
PRODUCER: UNDEFINED
PRODUCTION_SYSTEM: GIS/MAGIC
COMPRESSION: UNDEFINED
STANDARD_VERSION: 1996 12
METADATA_DATE: 2000 05 25
DATA_FILE_SIZE: 44081259
BYTE_COUNT: 5739
