FILENAME: O4511339.SWS.1076591.tif
QUADRANGLE_NAME: MAVERICK MOUNTAIN
QUADRANT: SW
WEST_LONGITUDE: -113 15 0.00000
EAST_LONGITUDE: -113 11 15.00000
NORTH_LATITUDE: 45 26 15.00000
SOUTH_LATITUDE: 45 22 30.00000
PRODUCTION_DATE: 2000 5 3
RASTER_ORDER: LEFT_RIGHT/TOP_BOTTOM
BAND_ORGANIZATION: SINGLE FILE
BAND_CONTENT: BLACK&WHITE
BAND_CONTENT: UNDEFINED
BAND_CONTENT: UNDEFINED
BITS_PER_PIXEL: 8
SAMPLES_AND_LINES: 5755 7688
HORIZONTAL_DATUM: NAD83
HORIZONTAL_COORDINATE_SYSTEM: UTM
COORDINATE_ZONE: 12
HORIZONTAL_UNITS: METERS
HORIZONTAL_RESOLUTION: 1.00000
SECONDARY_HORIZONTAL_DATUM: NAD27
XY_ORIGIN: 323456.00000 5034316.00000
SECONDARY_XY_ORIGIN: 323520.00700 5034105.00200
NATION: US
NATION: "SCIENCE
STATE: MT
NW_QUAD_CORNER_XY: 324020.94700 5034015.48600
NE_QUAD_CORNER_XY: 328909.22000 5033880.54700
SE_QUAD_CORNERY_XY: 328720.35500 5026937.15900
SW_QUAD_CORNER_XY: 323826.68100 5027072.10100
SECONDARY_NW_QUAD_XY: 324015.70300 5033798.00000
SECONDARY_NE_QUAD_XY: 328904.12100 5033663.05800
SECONDARY_SE_QUAD_XY: 328715.25800 5026719.71900
SECONDARY_SW_QUAD_XY: 323821.43700 5026854.66500
RMSE_XY: 2.10000
IMAGE_SOURCE: BLACK AND WHITE FILM
SOURCE_IMAGE_ID: NAPP 8393 212
SOURCE_IMAGE_DATE: 1995 08 19
SOURCE_IMAGE_ID: NAPP 8393 211
SOURCE_IMAGE_DATE: 1995 08 19
SOURCE_DEM_DATE: 1997 00 00
AGENCY: WESTERN MAPPING CENTER (WMC)
PRODUCER: UNDEFINED
PRODUCTION_SYSTEM: GIS/MAGIC
COMPRESSION: UNDEFINED
STANDARD_VERSION: 1996 12
METADATA_DATE: 2000 05 25
DATA_FILE_SIZE: 44250195
BYTE_COUNT: 5755
