FILENAME: O4511337.NWS.1076505.tif
QUADRANGLE_NAME: FOX GULCH
QUADRANT: NW
WEST_LONGITUDE: -113 30 0.00000
EAST_LONGITUDE: -113 26 15.00000
NORTH_LATITUDE: 45 30 0.00000
SOUTH_LATITUDE: 45 26 15.00000
PRODUCTION_DATE: 2000 4 19
RASTER_ORDER: LEFT_RIGHT/TOP_BOTTOM
BAND_ORGANIZATION: SINGLE FILE
BAND_CONTENT: BLACK&WHITE
BAND_CONTENT: UNDEFINED
BAND_CONTENT: UNDEFINED
BITS_PER_PIXEL: 8
SAMPLES_AND_LINES: 5772 7703
HORIZONTAL_DATUM: NAD83
HORIZONTAL_COORDINATE_SYSTEM: UTM
COORDINATE_ZONE: 12
HORIZONTAL_UNITS: METERS
HORIZONTAL_RESOLUTION: 1.00000
SECONDARY_HORIZONTAL_DATUM: NAD27
XY_ORIGIN: 304096.00000 5041837.00000
SECONDARY_XY_ORIGIN: 304160.26300 5041625.86900
NATION: US
NATION: "SCIENCE
STATE: MT
NW_QUAD_CORNER_XY: 304683.99800 5041536.72200
NE_QUAD_CORNER_XY: 309566.84900 5041386.56700
SE_QUAD_CORNERY_XY: 309356.14700 5034443.13200
SW_QUAD_CORNER_XY: 304467.88600 5034593.29200
SECONDARY_NW_QUAD_XY: 304678.16800 5041319.20400
SECONDARY_NE_QUAD_XY: 309561.16500 5041169.04500
SECONDARY_SE_QUAD_XY: 309350.46500 5034225.65900
SECONDARY_SW_QUAD_XY: 304462.05900 5034375.82400
RMSE_XY: 0.80000
IMAGE_SOURCE: BLACK AND WHITE FILM
SOURCE_IMAGE_ID: NAPP 8391 019
SOURCE_IMAGE_DATE: 1995 08 01
SOURCE_IMAGE_ID: NAPP 8391 020
SOURCE_IMAGE_DATE: 1995 08 01
SOURCE_DEM_DATE: 2000 01 01
AGENCY: WESTERN MAPPING CENTER (WMC)
PRODUCER: UNDEFINED
PRODUCTION_SYSTEM: GIS/MAGIC
COMPRESSION: UNDEFINED
STANDARD_VERSION: 1996 12
METADATA_DATE: 2000 05 19
DATA_FILE_SIZE: 44467488
BYTE_COUNT: 5772
