FILENAME: O4511336.NES.1076752.tif
QUADRANGLE_NAME: AJAX RANCH
QUADRANT: NE
WEST_LONGITUDE: -113 33 45.00000
EAST_LONGITUDE: -113 30 0.00000
NORTH_LATITUDE: 45 30 0.00000
SOUTH_LATITUDE: 45 26 15.00000
PRODUCTION_DATE: 2000 4 17
RASTER_ORDER: LEFT_RIGHT/TOP_BOTTOM
BAND_ORGANIZATION: SINGLE FILE
BAND_CONTENT: BLACK&WHITE
BAND_CONTENT: UNDEFINED
BAND_CONTENT: UNDEFINED
BITS_PER_PIXEL: 8
SAMPLES_AND_LINES: 5777 7707
HORIZONTAL_DATUM: NAD83
HORIZONTAL_COORDINATE_SYSTEM: UTM
COORDINATE_ZONE: 12
HORIZONTAL_UNITS: METERS
HORIZONTAL_RESOLUTION: 1.00000
SECONDARY_HORIZONTAL_DATUM: NAD27
XY_ORIGIN: 299208.00000 5041991.00000
SECONDARY_XY_ORIGIN: 299272.30900 5041779.87800
NATION: US
NATION: "SCIENCE
STATE: MT
NW_QUAD_CORNER_XY: 299801.15100 5041690.68300
NE_QUAD_CORNER_XY: 304683.99800 5041536.72200
SE_QUAD_CORNERY_XY: 304467.88600 5034593.29200
SW_QUAD_CORNER_XY: 299579.62900 5034747.25900
SECONDARY_NW_QUAD_XY: 299795.17500 5041473.17000
SECONDARY_NE_QUAD_XY: 304678.16800 5041319.20400
SECONDARY_SE_QUAD_XY: 304462.05900 5034375.82400
SECONDARY_SW_QUAD_XY: 299573.65600 5034529.79500
RMSE_XY: 1.00000
IMAGE_SOURCE: BLACK AND WHITE FILM
SOURCE_IMAGE_ID: NAPP 8391 260
SOURCE_IMAGE_DATE: 1995 08 01
SOURCE_IMAGE_ID: NAPP 8389 215
SOURCE_IMAGE_DATE: 1995 07 31
SOURCE_IMAGE_ID: NAPP 8391 261
SOURCE_IMAGE_DATE: 1995 08 01
SOURCE_DEM_DATE: 1965 00 00
AGENCY: WESTERN MAPPING CENTER (WMC)
PRODUCER: UNDEFINED
PRODUCTION_SYSTEM: GIS/MAGIC
COMPRESSION: UNDEFINED
STANDARD_VERSION: 1996 12
METADATA_DATE: 2000 05 19
DATA_FILE_SIZE: 44529116
BYTE_COUNT: 5777
