FILENAME: O4511336.SES.1076754.tif
QUADRANGLE_NAME: AJAX RANCH
QUADRANT: SE
WEST_LONGITUDE: -113 33 45.00000
EAST_LONGITUDE: -113 30 0.00000
NORTH_LATITUDE: 45 26 15.00000
SOUTH_LATITUDE: 45 22 30.00000
PRODUCTION_DATE: 2000 4 17
RASTER_ORDER: LEFT_RIGHT/TOP_BOTTOM
BAND_ORGANIZATION: SINGLE FILE
BAND_CONTENT: BLACK&WHITE
BAND_CONTENT: UNDEFINED
BAND_CONTENT: UNDEFINED
BITS_PER_PIXEL: 8
SAMPLES_AND_LINES: 5782 7707
HORIZONTAL_DATUM: NAD83
HORIZONTAL_COORDINATE_SYSTEM: UTM
COORDINATE_ZONE: 12
HORIZONTAL_UNITS: METERS
HORIZONTAL_RESOLUTION: 1.00000
SECONDARY_HORIZONTAL_DATUM: NAD27
XY_ORIGIN: 298987.00000 5035048.00000
SECONDARY_XY_ORIGIN: 299051.30500 5034836.90500
NATION: US
NATION: "SCIENCE
STATE: MT
NW_QUAD_CORNER_XY: 299579.62900 5034747.25900
NE_QUAD_CORNER_XY: 304467.88600 5034593.29200
SE_QUAD_CORNERY_XY: 304252.00900 5027649.92500
SW_QUAD_CORNER_XY: 299358.34800 5027803.89600
SECONDARY_NW_QUAD_XY: 299573.65600 5034529.79500
SECONDARY_NE_QUAD_XY: 304462.05900 5034375.82400
SECONDARY_SE_QUAD_XY: 304246.18300 5027432.50600
SECONDARY_SW_QUAD_XY: 299352.37600 5027586.48200
RMSE_XY: 1.40000
IMAGE_SOURCE: BLACK AND WHITE FILM
SOURCE_IMAGE_ID: NAPP 8391 262
SOURCE_IMAGE_DATE: 1995 08 01
SOURCE_IMAGE_ID: NAPP 8391 263
SOURCE_IMAGE_DATE: 1995 08 01
SOURCE_IMAGE_ID: NAPP 8391 261
SOURCE_IMAGE_DATE: 1995 08 01
SOURCE_DEM_DATE: 1965 00 00
AGENCY: WESTERN MAPPING CENTER (WMC)
PRODUCER: UNDEFINED
PRODUCTION_SYSTEM: GIS/MAGIC
COMPRESSION: UNDEFINED
STANDARD_VERSION: 1996 12
METADATA_DATE: 2000 05 19
DATA_FILE_SIZE: 44567656
BYTE_COUNT: 5782
