FILENAME: O4511332.NWS.1076904.tif
QUADRANGLE_NAME: MAURICE MOUNTAIN
QUADRANT: NW
WEST_LONGITUDE: -113 7 30.00000
EAST_LONGITUDE: -113 3 45.00000
NORTH_LATITUDE: 45 37 30.00000
SOUTH_LATITUDE: 45 33 45.00000
PRODUCTION_DATE: 2000 4 19
RASTER_ORDER: LEFT_RIGHT/TOP_BOTTOM
BAND_ORGANIZATION: SINGLE FILE
BAND_CONTENT: BLACK&WHITE
BAND_CONTENT: UNDEFINED
BAND_CONTENT: UNDEFINED
BITS_PER_PIXEL: 8
SAMPLES_AND_LINES: 5728 7680
HORIZONTAL_DATUM: NAD83
HORIZONTAL_COORDINATE_SYSTEM: UTM
COORDINATE_ZONE: 12
HORIZONTAL_UNITS: METERS
HORIZONTAL_RESOLUTION: 1.00000
SECONDARY_HORIZONTAL_DATUM: NAD27
XY_ORIGIN: 333795.00000 5054880.00000
SECONDARY_XY_ORIGIN: 333858.63500 5054668.89300
NATION: US
NATION: "SCIENCE
STATE: MT
NW_QUAD_CORNER_XY: 334349.08100 5054579.98500
NE_QUAD_CORNER_XY: 339221.12300 5054452.67100
SE_QUAD_CORNERY_XY: 339042.48100 5047509.07500
SW_QUAD_CORNER_XY: 334165.02100 5047636.39600
SECONDARY_NW_QUAD_XY: 334344.12400 5054362.34700
SECONDARY_NE_QUAD_XY: 339216.31200 5054235.02800
SECONDARY_SE_QUAD_XY: 339037.67100 5047291.48100
SECONDARY_SW_QUAD_XY: 334160.06500 5047418.80500
RMSE_XY: 1.60000
IMAGE_SOURCE: BLACK AND WHITE FILM
SOURCE_IMAGE_ID: NAPP 8404 085
SOURCE_IMAGE_DATE: 1995 09 12
SOURCE_IMAGE_ID: NAPP 8393 260
SOURCE_IMAGE_DATE: 1995 08 19
SOURCE_IMAGE_ID: NAPP 8404 086
SOURCE_IMAGE_DATE: 1995 09 12
SOURCE_DEM_DATE: 1997 00 00
AGENCY: WESTERN MAPPING CENTER (WMC)
PRODUCER: UNDEFINED
PRODUCTION_SYSTEM: GIS/MAGIC
COMPRESSION: UNDEFINED
STANDARD_VERSION: 1996 12
METADATA_DATE: 2000 05 29
DATA_FILE_SIZE: 43996768
BYTE_COUNT: 5728
