FILENAME: O4511330.NES.1076540.tif
QUADRANGLE_NAME: STEWART MOUNTAIN
QUADRANT: NE
WEST_LONGITUDE: -113 18 45.00000
EAST_LONGITUDE: -113 15 0.00000
NORTH_LATITUDE: 45 37 30.00000
SOUTH_LATITUDE: 45 33 45.00000
PRODUCTION_DATE: 2000 4 25
RASTER_ORDER: LEFT_RIGHT/TOP_BOTTOM
BAND_ORGANIZATION: SINGLE FILE
BAND_CONTENT: BLACK&WHITE
BAND_CONTENT: UNDEFINED
BAND_CONTENT: UNDEFINED
BITS_PER_PIXEL: 8
SAMPLES_AND_LINES: 5745 7692
HORIZONTAL_DATUM: NAD83
HORIZONTAL_COORDINATE_SYSTEM: UTM
COORDINATE_ZONE: 12
HORIZONTAL_UNITS: METERS
HORIZONTAL_RESOLUTION: 1.00000
SECONDARY_HORIZONTAL_DATUM: NAD27
XY_ORIGIN: 319162.00000 5055285.00000
SECONDARY_XY_ORIGIN: 319225.93900 5055073.82800
NATION: US
NATION: "SCIENCE
STATE: MT
NW_QUAD_CORNER_XY: 319732.98100 5054984.75400
NE_QUAD_CORNER_XY: 324605.01000 5054846.02700
SE_QUAD_CORNERY_XY: 324410.11200 5047902.44800
SW_QUAD_CORNER_XY: 319532.66400 5048041.18200
SECONDARY_NW_QUAD_XY: 319727.58600 5054767.12800
SECONDARY_NE_QUAD_XY: 324599.76100 5054628.39600
SECONDARY_SE_QUAD_XY: 324404.86500 5047684.86500
SECONDARY_SW_QUAD_XY: 319527.27000 5047823.60300
RMSE_XY: 1.50000
IMAGE_SOURCE: BLACK AND WHITE FILM
SOURCE_IMAGE_ID: NAPP 8391 144
SOURCE_IMAGE_DATE: 1995 08 01
SOURCE_IMAGE_ID: NAPP 8391 145
SOURCE_IMAGE_DATE: 1995 08 01
SOURCE_IMAGE_ID: NAPP 8393 207
SOURCE_IMAGE_DATE: 1995 08 19
SOURCE_DEM_DATE: 1992 00 00
AGENCY: WESTERN MAPPING CENTER (WMC)
PRODUCER: UNDEFINED
PRODUCTION_SYSTEM: GIS/MAGIC
COMPRESSION: UNDEFINED
STANDARD_VERSION: 1996 12
METADATA_DATE: 2000 05 19
DATA_FILE_SIZE: 44196285
BYTE_COUNT: 5745
