FILENAME: O4511328.SWS.1076484.tif
QUADRANGLE_NAME: HIGHLAND RANCH
QUADRANT: SW
WEST_LONGITUDE: -113 37 30.00000
EAST_LONGITUDE: -113 33 45.00000
NORTH_LATITUDE: 45 33 45.00000
SOUTH_LATITUDE: 45 30 0.00000
PRODUCTION_DATE: 2000 4 17
RASTER_ORDER: LEFT_RIGHT/TOP_BOTTOM
BAND_ORGANIZATION: SINGLE FILE
BAND_CONTENT: BLACK&WHITE
BAND_CONTENT: UNDEFINED
BAND_CONTENT: UNDEFINED
BITS_PER_PIXEL: 8
SAMPLES_AND_LINES: 5778 7710
HORIZONTAL_DATUM: NAD83
HORIZONTAL_COORDINATE_SYSTEM: UTM
COORDINATE_ZONE: 12
HORIZONTAL_UNITS: METERS
HORIZONTAL_RESOLUTION: 1.00000
SECONDARY_HORIZONTAL_DATUM: NAD27
XY_ORIGIN: 294546.00000 5049092.00000
SECONDARY_XY_ORIGIN: 294610.33700 5048880.82000
NATION: US
NATION: "SCIENCE
STATE: MT
NW_QUAD_CORNER_XY: 295145.48400 5048791.93000
NE_QUAD_CORNER_XY: 300022.91100 5048634.16800
SE_QUAD_CORNERY_XY: 299801.15100 5041690.68300
SW_QUAD_CORNER_XY: 294918.30700 5041848.45100
SECONDARY_NW_QUAD_XY: 295139.36200 5048574.37400
SECONDARY_NE_QUAD_XY: 300016.93500 5048416.60700
SECONDARY_SE_QUAD_XY: 299795.17500 5041473.17000
SECONDARY_SW_QUAD_XY: 294912.18600 5041630.94300
RMSE_XY: 1.00000
IMAGE_SOURCE: BLACK AND WHITE FILM
SOURCE_IMAGE_ID: NAPP 8389 217
SOURCE_IMAGE_DATE: 1995 07 31
SOURCE_IMAGE_ID: NAPP 8389 216
SOURCE_IMAGE_DATE: 1995 07 31
SOURCE_DEM_DATE: 2000 01 01
AGENCY: WESTERN MAPPING CENTER (WMC)
PRODUCER: UNDEFINED
PRODUCTION_SYSTEM: GIS/MAGIC
COMPRESSION: UNDEFINED
STANDARD_VERSION: 1996 12
METADATA_DATE: 2000 05 19
DATA_FILE_SIZE: 44554158
BYTE_COUNT: 5778
