FILENAME: O4511323.NWS.1076873.tif
QUADRANGLE_NAME: SHAW MOUNTAIN
QUADRANT: NW
WEST_LONGITUDE: -113 15 0.00000
EAST_LONGITUDE: -113 11 15.00000
NORTH_LATITUDE: 45 45 0.00000
SOUTH_LATITUDE: 45 41 15.00000
PRODUCTION_DATE: 2000 4 19
RASTER_ORDER: LEFT_RIGHT/TOP_BOTTOM
BAND_ORGANIZATION: SINGLE FILE
BAND_CONTENT: BLACK&WHITE
BAND_CONTENT: UNDEFINED
BAND_CONTENT: UNDEFINED
BITS_PER_PIXEL: 8
SAMPLES_AND_LINES: 5728 7688
HORIZONTAL_DATUM: NAD83
HORIZONTAL_COORDINATE_SYSTEM: UTM
COORDINATE_ZONE: 12
HORIZONTAL_UNITS: METERS
HORIZONTAL_RESOLUTION: 1.00000
SECONDARY_HORIZONTAL_DATUM: NAD27
XY_ORIGIN: 324430.00000 5069034.00000
SECONDARY_XY_ORIGIN: 324493.75400 5068822.73800
NATION: US
NATION: "SCIENCE
STATE: MT
NW_QUAD_CORNER_XY: 324995.43500 5068733.37700
NE_QUAD_CORNER_XY: 329856.61300 5068598.46800
SE_QUAD_CORNERY_XY: 329666.72600 5061654.75300
SW_QUAD_CORNER_XY: 324800.11800 5061789.67000
SECONDARY_NW_QUAD_XY: 324990.18400 5068515.65400
SECONDARY_NE_QUAD_XY: 329851.50700 5068380.74100
SECONDARY_SE_QUAD_XY: 329661.62200 5061437.07200
SECONDARY_SW_QUAD_XY: 324794.86800 5061571.99300
RMSE_XY: 1.70000
IMAGE_SOURCE: BLACK AND WHITE FILM
SOURCE_IMAGE_ID: NAPP 8393 202
SOURCE_IMAGE_DATE: 1995 08 19
SOURCE_IMAGE_ID: NAPP 8391 149
SOURCE_IMAGE_DATE: 1995 08 01
SOURCE_IMAGE_ID: NAPP 8393 203
SOURCE_IMAGE_DATE: 1995 08 19
SOURCE_IMAGE_ID: NAPP 8393 201
SOURCE_IMAGE_DATE: 1995 08 19
SOURCE_DEM_DATE: 1992 00 00
AGENCY: WESTERN MAPPING CENTER (WMC)
PRODUCER: UNDEFINED
PRODUCTION_SYSTEM: GIS/MAGIC
COMPRESSION: UNDEFINED
STANDARD_VERSION: 1996 12
METADATA_DATE: 2000 05 29
DATA_FILE_SIZE: 44042592
BYTE_COUNT: 5728
