FILENAME: O4511323.SWS.1076875.tif
QUADRANGLE_NAME: SHAW MOUNTAIN
QUADRANT: SW
WEST_LONGITUDE: -113 15 0.00000
EAST_LONGITUDE: -113 11 15.00000
NORTH_LATITUDE: 45 41 15.00000
SOUTH_LATITUDE: 45 37 30.00000
PRODUCTION_DATE: 2000 4 19
RASTER_ORDER: LEFT_RIGHT/TOP_BOTTOM
BAND_ORGANIZATION: SINGLE FILE
BAND_CONTENT: BLACK&WHITE
BAND_CONTENT: UNDEFINED
BAND_CONTENT: UNDEFINED
BITS_PER_PIXEL: 8
SAMPLES_AND_LINES: 5734 7688
HORIZONTAL_DATUM: NAD83
HORIZONTAL_COORDINATE_SYSTEM: UTM
COORDINATE_ZONE: 12
HORIZONTAL_UNITS: METERS
HORIZONTAL_RESOLUTION: 1.00000
SECONDARY_HORIZONTAL_DATUM: NAD27
XY_ORIGIN: 324234.00000 5062090.00000
SECONDARY_XY_ORIGIN: 324297.80400 5061878.79100
NATION: US
NATION: "SCIENCE
STATE: MT
NW_QUAD_CORNER_XY: 324800.11800 5061789.67000
NE_QUAD_CORNER_XY: 329666.72600 5061654.75300
SE_QUAD_CORNERY_XY: 329477.04300 5054711.10400
SW_QUAD_CORNER_XY: 324605.01000 5054846.02700
SECONDARY_NW_QUAD_XY: 324794.86800 5061571.99300
SECONDARY_NE_QUAD_XY: 329661.62200 5061437.07200
SECONDARY_SE_QUAD_XY: 329471.94000 5054493.46900
SECONDARY_SW_QUAD_XY: 324599.76100 5054628.39600
RMSE_XY: 2.30000
IMAGE_SOURCE: BLACK AND WHITE FILM
SOURCE_IMAGE_ID: NAPP 8393 204
SOURCE_IMAGE_DATE: 1995 08 19
SOURCE_IMAGE_ID: NAPP 8391 147
SOURCE_IMAGE_DATE: 1995 08 01
SOURCE_IMAGE_ID: NAPP 8393 205
SOURCE_IMAGE_DATE: 1995 08 19
SOURCE_IMAGE_ID: NAPP 8393 203
SOURCE_IMAGE_DATE: 1995 08 19
SOURCE_IMAGE_ID: NAPP 8393 262
SOURCE_IMAGE_DATE: 1995 08 19
SOURCE_DEM_DATE: 1992 00 00
AGENCY: WESTERN MAPPING CENTER (WMC)
PRODUCER: UNDEFINED
PRODUCTION_SYSTEM: GIS/MAGIC
COMPRESSION: UNDEFINED
STANDARD_VERSION: 1996 12
METADATA_DATE: 2000 05 29
DATA_FILE_SIZE: 44088726
BYTE_COUNT: 5734
