FILENAME: O4511321.NES.1076520.tif
QUADRANGLE_NAME: MUD LAKE
QUADRANT: NE
WEST_LONGITUDE: -113 26 15.00000
EAST_LONGITUDE: -113 22 30.00000
NORTH_LATITUDE: 45 45 0.00000
SOUTH_LATITUDE: 45 41 15.00000
PRODUCTION_DATE: 2000 4 19
RASTER_ORDER: LEFT_RIGHT/TOP_BOTTOM
BAND_ORGANIZATION: SINGLE FILE
BAND_CONTENT: BLACK&WHITE
BAND_CONTENT: UNDEFINED
BAND_CONTENT: UNDEFINED
BITS_PER_PIXEL: 8
SAMPLES_AND_LINES: 5746 7699
HORIZONTAL_DATUM: NAD83
HORIZONTAL_COORDINATE_SYSTEM: UTM
COORDINATE_ZONE: 12
HORIZONTAL_UNITS: METERS
HORIZONTAL_RESOLUTION: 1.00000
SECONDARY_HORIZONTAL_DATUM: NAD27
XY_ORIGIN: 309829.00000 5069461.00000
SECONDARY_XY_ORIGIN: 309893.04400 5069249.69400
NATION: US
NATION: "SCIENCE
STATE: MT
NW_QUAD_CORNER_XY: 310411.93400 5069160.93100
NE_QUAD_CORNER_XY: 315273.09500 5069014.60800
SE_QUAD_CORNERY_XY: 315066.91500 5062070.91600
SW_QUAD_CORNER_XY: 310200.32100 5062217.24600
SECONDARY_NW_QUAD_XY: 310406.24400 5068943.22100
SECONDARY_NE_QUAD_XY: 315267.55200 5068796.89400
SECONDARY_SE_QUAD_XY: 315061.37300 5061853.24700
SECONDARY_SW_QUAD_XY: 310194.63400 5061999.58200
RMSE_XY: 0.90000
IMAGE_SOURCE: BLACK AND WHITE FILM
SOURCE_IMAGE_ID: NAPP 8391 074
SOURCE_IMAGE_DATE: 1995 08 01
SOURCE_DEM_DATE: 1955 00 00
AGENCY: WESTERN MAPPING CENTER (WMC)
PRODUCER: UNDEFINED
PRODUCTION_SYSTEM: GIS/MAGIC
COMPRESSION: UNDEFINED
STANDARD_VERSION: 1996 12
METADATA_DATE: 2000 05 19
DATA_FILE_SIZE: 44244200
BYTE_COUNT: 5746
