FILENAME: O4511321.NWS.1076521.tif
QUADRANGLE_NAME: MUD LAKE
QUADRANT: NW
WEST_LONGITUDE: -113 30 0.00000
EAST_LONGITUDE: -113 26 15.00000
NORTH_LATITUDE: 45 45 0.00000
SOUTH_LATITUDE: 45 41 15.00000
PRODUCTION_DATE: 2000 4 19
RASTER_ORDER: LEFT_RIGHT/TOP_BOTTOM
BAND_ORGANIZATION: SINGLE FILE
BAND_CONTENT: BLACK&WHITE
BAND_CONTENT: UNDEFINED
BAND_CONTENT: UNDEFINED
BITS_PER_PIXEL: 8
SAMPLES_AND_LINES: 5751 7704
HORIZONTAL_DATUM: NAD83
HORIZONTAL_COORDINATE_SYSTEM: UTM
COORDINATE_ZONE: 12
HORIZONTAL_UNITS: METERS
HORIZONTAL_RESOLUTION: 1.00000
SECONDARY_HORIZONTAL_DATUM: NAD27
XY_ORIGIN: 304962.00000 5069612.00000
SECONDARY_XY_ORIGIN: 305026.14100 5069400.67800
NATION: US
NATION: "SCIENCE
STATE: MT
NW_QUAD_CORNER_XY: 305550.77800 5069311.05800
NE_QUAD_CORNER_XY: 310411.93400 5069160.93100
SE_QUAD_CORNERY_XY: 310200.32100 5062217.24600
SW_QUAD_CORNER_XY: 305333.73300 5062367.38100
SECONDARY_NW_QUAD_XY: 305544.94300 5069093.35300
SECONDARY_NE_QUAD_XY: 310406.24400 5068943.22100
SECONDARY_SE_QUAD_XY: 310194.63400 5061999.58200
SECONDARY_SW_QUAD_XY: 305327.89900 5062149.72200
RMSE_XY: 1.60000
IMAGE_SOURCE: BLACK AND WHITE FILM
SOURCE_IMAGE_ID: NAPP 8404 127
SOURCE_IMAGE_DATE: 1995 09 12
SOURCE_DEM_DATE: 1955 00 00
AGENCY: WESTERN MAPPING CENTER (WMC)
PRODUCER: UNDEFINED
PRODUCTION_SYSTEM: GIS/MAGIC
COMPRESSION: UNDEFINED
STANDARD_VERSION: 1996 12
METADATA_DATE: 2000 05 19
DATA_FILE_SIZE: 44311455
BYTE_COUNT: 5751
