FILENAME: O4511320.SWS.1076480.tif
QUADRANGLE_NAME: GIBBONS SCHOOL
QUADRANT: SW
WEST_LONGITUDE: -113 37 30.00000
EAST_LONGITUDE: -113 33 45.00000
NORTH_LATITUDE: 45 41 15.00000
SOUTH_LATITUDE: 45 37 30.00000
PRODUCTION_DATE: 2000 4 18
RASTER_ORDER: LEFT_RIGHT/TOP_BOTTOM
BAND_ORGANIZATION: SINGLE FILE
BAND_CONTENT: BLACK&WHITE
BAND_CONTENT: UNDEFINED
BAND_CONTENT: UNDEFINED
BITS_PER_PIXEL: 8
SAMPLES_AND_LINES: 5768 7711
HORIZONTAL_DATUM: NAD83
HORIZONTAL_COORDINATE_SYSTEM: UTM
COORDINATE_ZONE: 12
HORIZONTAL_UNITS: METERS
HORIZONTAL_RESOLUTION: 1.00000
SECONDARY_HORIZONTAL_DATUM: NAD27
XY_ORIGIN: 295001.00000 5062980.00000
SECONDARY_XY_ORIGIN: 295065.29100 5062768.70500
NATION: US
NATION: "SCIENCE
STATE: MT
NW_QUAD_CORNER_XY: 295600.57300 5062679.07000
NE_QUAD_CORNER_XY: 300467.15000 5062521.32200
SE_QUAD_CORNERY_XY: 300244.91100 5055577.71500
SW_QUAD_CORNER_XY: 295372.90600 5055735.47000
SECONDARY_NW_QUAD_XY: 295594.44700 5062461.41900
SECONDARY_NE_QUAD_XY: 300461.17100 5062303.66700
SECONDARY_SE_QUAD_XY: 300238.93300 5055360.10600
SECONDARY_SW_QUAD_XY: 295366.78200 5055517.86600
RMSE_XY: 1.00000
IMAGE_SOURCE: BLACK AND WHITE FILM
SOURCE_IMAGE_ID: NAPP 8389 221
SOURCE_IMAGE_DATE: 1995 07 31
SOURCE_DEM_DATE: 1965 00 00
AGENCY: WESTERN MAPPING CENTER (WMC)
PRODUCER: UNDEFINED
PRODUCTION_SYSTEM: GIS/MAGIC
COMPRESSION: UNDEFINED
STANDARD_VERSION: 1996 12
METADATA_DATE: 2000 05 19
DATA_FILE_SIZE: 44482816
BYTE_COUNT: 5768
