FILENAME: O4511319.NES.1076461.tif
QUADRANGLE_NAME: BIG HOLE BATTLEFIELD
QUADRANT: NE
WEST_LONGITUDE: -113 41 15.00000
EAST_LONGITUDE: -113 37 30.00000
NORTH_LATITUDE: 45 45 0.00000
SOUTH_LATITUDE: 45 41 15.00000
PRODUCTION_DATE: 2000 4 14
RASTER_ORDER: LEFT_RIGHT/TOP_BOTTOM
BAND_ORGANIZATION: SINGLE FILE
BAND_CONTENT: BLACK&WHITE
BAND_CONTENT: UNDEFINED
BAND_CONTENT: UNDEFINED
BITS_PER_PIXEL: 8
SAMPLES_AND_LINES: 5768 7715
HORIZONTAL_DATUM: NAD83
HORIZONTAL_COORDINATE_SYSTEM: UTM
COORDINATE_ZONE: 12
HORIZONTAL_UNITS: METERS
HORIZONTAL_RESOLUTION: 1.00000
SECONDARY_HORIZONTAL_DATUM: NAD27
XY_ORIGIN: 290362.00000 5070085.00000
SECONDARY_XY_ORIGIN: 290426.33200 5069873.63300
NATION: US
NATION: "SCIENCE
STATE: MT
NW_QUAD_CORNER_XY: 290967.34600 5069784.27500
NE_QUAD_CORNER_XY: 295828.48400 5069622.73000
SE_QUAD_CORNERY_XY: 295600.57300 5062679.07000
SW_QUAD_CORNER_XY: 290734.00100 5062840.62300
SECONDARY_NW_QUAD_XY: 290961.07300 5069566.58400
SECONDARY_NE_QUAD_XY: 295822.35700 5069405.03400
SECONDARY_SE_QUAD_XY: 295594.44700 5062461.41900
SECONDARY_SW_QUAD_XY: 290727.73000 5062622.97800
RMSE_XY: 1.70000
IMAGE_SOURCE: BLACK AND WHITE FILM
SOURCE_IMAGE_ID: NAPP 8393 101
SOURCE_IMAGE_DATE: 1995 08 19
SOURCE_DEM_DATE: 2000 01 01
AGENCY: WESTERN MAPPING CENTER (WMC)
PRODUCER: UNDEFINED
PRODUCTION_SYSTEM: GIS/MAGIC
COMPRESSION: UNDEFINED
STANDARD_VERSION: 1996 12
METADATA_DATE: 2000 05 19
DATA_FILE_SIZE: 44505888
BYTE_COUNT: 5768
