FILENAME: O4511318.SES.1069776.tif
QUADRANGLE_NAME: ELK CREEK
QUADRANT: SE
WEST_LONGITUDE: -113 48 45.00000
EAST_LONGITUDE: -113 45 0.00000
NORTH_LATITUDE: 45 41 15.00000
SOUTH_LATITUDE: 45 37 30.00000
PRODUCTION_DATE: 2000 3 23
RASTER_ORDER: LEFT_RIGHT/TOP_BOTTOM
BAND_ORGANIZATION: SINGLE FILE
BAND_CONTENT: BLACK&WHITE
BAND_CONTENT: UNDEFINED
BAND_CONTENT: UNDEFINED
BITS_PER_PIXEL: 8
SAMPLES_AND_LINES: 5785 7722
HORIZONTAL_DATUM: NAD83
HORIZONTAL_COORDINATE_SYSTEM: UTM
COORDINATE_ZONE: 12
HORIZONTAL_UNITS: METERS
HORIZONTAL_RESOLUTION: 1.00000
SECONDARY_HORIZONTAL_DATUM: NAD27
XY_ORIGIN: 280384.00000 5063476.00000
SECONDARY_XY_ORIGIN: 280448.38600 5063264.67400
NATION: US
NATION: "SCIENCE
STATE: MT
NW_QUAD_CORNER_XY: 281000.87500 5063175.15100
NE_QUAD_CORNER_XY: 285867.43500 5063005.98300
SE_QUAD_CORNERY_XY: 285628.91100 5056062.39900
SW_QUAD_CORNER_XY: 280756.92200 5056231.57500
SECONDARY_NW_QUAD_XY: 280994.31200 5062957.51500
SECONDARY_NE_QUAD_XY: 285861.01800 5062788.34300
SECONDARY_SE_QUAD_XY: 285622.49600 5055844.80500
SECONDARY_SW_QUAD_XY: 280750.36000 5056013.98600
RMSE_XY: 2.60000
IMAGE_SOURCE: BLACK AND WHITE FILM
SOURCE_IMAGE_ID: NAPP 8389 194
SOURCE_IMAGE_DATE: 1995 07 31
SOURCE_IMAGE_ID: NAPP 8389 195
SOURCE_IMAGE_DATE: 1995 07 31
SOURCE_DEM_DATE: 1992 00 00
AGENCY: WESTERN MAPPING CENTER (WMC)
PRODUCER: UNDEFINED
PRODUCTION_SYSTEM: GIS/MAGIC
COMPRESSION: UNDEFINED
STANDARD_VERSION: 1996 12
METADATA_DATE: 2000 04 25
DATA_FILE_SIZE: 44677555
BYTE_COUNT: 5785
