FILENAME: O4511318.SWS.1069777.tif
QUADRANGLE_NAME: ELK CREEK
QUADRANT: SW
WEST_LONGITUDE: -113 52 30.00000
EAST_LONGITUDE: -113 48 45.00000
NORTH_LATITUDE: 45 41 15.00000
SOUTH_LATITUDE: 45 37 30.00000
PRODUCTION_DATE: 2000 3 23
RASTER_ORDER: LEFT_RIGHT/TOP_BOTTOM
BAND_ORGANIZATION: SINGLE FILE
BAND_CONTENT: BLACK&WHITE
BAND_CONTENT: UNDEFINED
BAND_CONTENT: UNDEFINED
BITS_PER_PIXEL: 8
SAMPLES_AND_LINES: 5790 7726
HORIZONTAL_DATUM: NAD83
HORIZONTAL_COORDINATE_SYSTEM: UTM
COORDINATE_ZONE: 12
HORIZONTAL_UNITS: METERS
HORIZONTAL_RESOLUTION: 1.00000
SECONDARY_HORIZONTAL_DATUM: NAD27
XY_ORIGIN: 275512.00000 5063649.00000
SECONDARY_XY_ORIGIN: 275576.36600 5063437.66700
NATION: US
NATION: "SCIENCE
STATE: MT
NW_QUAD_CORNER_XY: 276134.32200 5063348.12600
NE_QUAD_CORNER_XY: 281000.87500 5063175.15100
SE_QUAD_CORNERY_XY: 280756.92200 5056231.57500
SW_QUAD_CORNER_XY: 275884.93900 5056404.55800
SECONDARY_NW_QUAD_XY: 276127.61200 5063130.49500
SECONDARY_NE_QUAD_XY: 280994.31200 5062957.51500
SECONDARY_SE_QUAD_XY: 280750.36000 5056013.98600
SECONDARY_SW_QUAD_XY: 275878.23100 5056186.97500
RMSE_XY: 2.20000
IMAGE_SOURCE: BLACK AND WHITE FILM
SOURCE_IMAGE_ID: NAPP 8393 043
SOURCE_IMAGE_DATE: 1995 08 19
SOURCE_IMAGE_ID: NAPP 8393 044
SOURCE_IMAGE_DATE: 1995 08 19
SOURCE_DEM_DATE: 1992 00 00
AGENCY: WESTERN MAPPING CENTER (WMC)
PRODUCER: UNDEFINED
PRODUCTION_SYSTEM: GIS/MAGIC
COMPRESSION: UNDEFINED
STANDARD_VERSION: 1996 12
METADATA_DATE: 2000 04 25
DATA_FILE_SIZE: 44739330
BYTE_COUNT: 5790
