FILENAME: O4511316.SWS.1076767.tif
QUADRANGLE_NAME: DICKIE HILLS
QUADRANT: SW
WEST_LONGITUDE: -113 7 30.00000
EAST_LONGITUDE: -113 3 45.00000
NORTH_LATITUDE: 45 48 45.00000
SOUTH_LATITUDE: 45 45 0.00000
PRODUCTION_DATE: 2000 4 4
RASTER_ORDER: LEFT_RIGHT/TOP_BOTTOM
BAND_ORGANIZATION: SINGLE FILE
BAND_CONTENT: BLACK&WHITE
BAND_CONTENT: UNDEFINED
BAND_CONTENT: UNDEFINED
BITS_PER_PIXEL: 8
SAMPLES_AND_LINES: 5712 7681
HORIZONTAL_DATUM: NAD83
HORIZONTAL_COORDINATE_SYSTEM: UTM
COORDINATE_ZONE: 12
HORIZONTAL_UNITS: METERS
HORIZONTAL_RESOLUTION: 1.00000
SECONDARY_HORIZONTAL_DATUM: NAD27
XY_ORIGIN: 334348.00000 5075712.00000
SECONDARY_XY_ORIGIN: 334411.54800 5075500.74600
NATION: US
NATION: "SCIENCE
STATE: MT
NW_QUAD_CORNER_XY: 334902.45000 5075411.15000
NE_QUAD_CORNER_XY: 339758.20300 5075283.85500
SE_QUAD_CORNERY_XY: 339578.98400 5068340.06000
SW_QUAD_CORNER_XY: 334717.79600 5068467.36200
SECONDARY_NW_QUAD_XY: 334897.49000 5075193.37400
SECONDARY_NE_QUAD_XY: 339753.38800 5075066.07600
SECONDARY_SE_QUAD_XY: 339574.17000 5068122.32600
SECONDARY_SW_QUAD_XY: 334712.83600 5068249.63200
RMSE_XY: 2.20000
IMAGE_SOURCE: BLACK AND WHITE FILM
SOURCE_IMAGE_ID: NAPP 8402 020
SOURCE_IMAGE_DATE: 1995 09 02
SOURCE_IMAGE_ID: NAPP 8393 267
SOURCE_IMAGE_DATE: 1995 08 19
SOURCE_IMAGE_ID: NAPP 8404 090
SOURCE_IMAGE_DATE: 1995 09 12
SOURCE_IMAGE_ID: NAPP 8402 015
SOURCE_IMAGE_DATE: 1995 09 02
SOURCE_IMAGE_ID: NAPP 8402 019
SOURCE_IMAGE_DATE: 1995 09 02
SOURCE_DEM_DATE: 1992 00 00
AGENCY: WESTERN MAPPING CENTER (WMC)
PRODUCER: UNDEFINED
PRODUCTION_SYSTEM: GIS/MAGIC
COMPRESSION: UNDEFINED
STANDARD_VERSION: 1996 12
METADATA_DATE: 2000 05 29
DATA_FILE_SIZE: 43879584
BYTE_COUNT: 5712
