FILENAME: O4511314.NES.1076576.tif
QUADRANGLE_NAME: PINE HILL
QUADRANT: NE
WEST_LONGITUDE: -113 18 45.00000
EAST_LONGITUDE: -113 15 0.00000
NORTH_LATITUDE: 45 52 30.00000
SOUTH_LATITUDE: 45 48 45.00000
PRODUCTION_DATE: 2000 4 25
RASTER_ORDER: LEFT_RIGHT/TOP_BOTTOM
BAND_ORGANIZATION: SINGLE FILE
BAND_CONTENT: BLACK&WHITE
BAND_CONTENT: UNDEFINED
BAND_CONTENT: UNDEFINED
BITS_PER_PIXEL: 8
SAMPLES_AND_LINES: 5724 7692
HORIZONTAL_DATUM: NAD83
HORIZONTAL_COORDINATE_SYSTEM: UTM
COORDINATE_ZONE: 12
HORIZONTAL_UNITS: METERS
HORIZONTAL_RESOLUTION: 1.00000
SECONDARY_HORIZONTAL_DATUM: NAD27
XY_ORIGIN: 319964.00000 5083060.00000
SECONDARY_XY_ORIGIN: 320027.83300 5082848.64200
NATION: US
NATION: "SCIENCE
STATE: MT
NW_QUAD_CORNER_XY: 320536.40500 5082759.68200
NE_QUAD_CORNER_XY: 325386.69800 5082620.98600
SE_QUAD_CORNERY_XY: 325190.96200 5075677.14900
SW_QUAD_CORNER_XY: 320335.22600 5075815.85400
SECONDARY_NW_QUAD_XY: 320531.00500 5082541.87500
SECONDARY_NE_QUAD_XY: 325381.44400 5082403.17400
SECONDARY_SE_QUAD_XY: 325185.70900 5075459.38200
SECONDARY_SW_QUAD_XY: 320329.82800 5075598.09100
RMSE_XY: 1.80000
IMAGE_SOURCE: BLACK AND WHITE FILM
SOURCE_IMAGE_ID: NAPP 8391 152
SOURCE_IMAGE_DATE: 1995 08 01
SOURCE_IMAGE_ID: NAPP 8391 081
SOURCE_IMAGE_DATE: 1995 08 01
SOURCE_DEM_DATE: 1993 00 00
AGENCY: WESTERN MAPPING CENTER (WMC)
PRODUCER: UNDEFINED
PRODUCTION_SYSTEM: GIS/MAGIC
COMPRESSION: UNDEFINED
STANDARD_VERSION: 1996 12
METADATA_DATE: 2000 05 19
DATA_FILE_SIZE: 44034732
BYTE_COUNT: 5724
