FILENAME: O4511308.SWS.1076655.tif
QUADRANGLE_NAME: LINCOLN GULCH
QUADRANT: SW
WEST_LONGITUDE: -113 7 30.00000
EAST_LONGITUDE: -113 3 45.00000
NORTH_LATITUDE: 45 56 15.00000
SOUTH_LATITUDE: 45 52 30.00000
PRODUCTION_DATE: 2000 4 20
RASTER_ORDER: LEFT_RIGHT/TOP_BOTTOM
BAND_ORGANIZATION: SINGLE FILE
BAND_CONTENT: BLACK&WHITE
BAND_CONTENT: UNDEFINED
BAND_CONTENT: UNDEFINED
BITS_PER_PIXEL: 8
SAMPLES_AND_LINES: 5702 7680
HORIZONTAL_DATUM: NAD83
HORIZONTAL_COORDINATE_SYSTEM: UTM
COORDINATE_ZONE: 12
HORIZONTAL_UNITS: METERS
HORIZONTAL_RESOLUTION: 1.00000
SECONDARY_HORIZONTAL_DATUM: NAD27
XY_ORIGIN: 334717.00000 5089599.00000
SECONDARY_XY_ORIGIN: 334780.56500 5089387.68500
NATION: US
NATION: "SCIENCE
STATE: MT
NW_QUAD_CORNER_XY: 335272.35200 5089298.92200
NE_QUAD_CORNER_XY: 340117.21600 5089171.64400
SE_QUAD_CORNERY_XY: 339937.61300 5082227.71600
SW_QUAD_CORNER_XY: 335087.30200 5082355.00300
SECONDARY_NW_QUAD_XY: 335267.38900 5089081.05900
SECONDARY_NE_QUAD_XY: 340112.39900 5088953.77700
SECONDARY_SE_QUAD_XY: 339932.79700 5082009.89300
SECONDARY_SW_QUAD_XY: 335082.34000 5082137.18300
RMSE_XY: 1.30000
IMAGE_SOURCE: BLACK AND WHITE FILM
SOURCE_IMAGE_ID: NAPP 8402 012
SOURCE_IMAGE_DATE: 1995 09 02
SOURCE_IMAGE_ID: NAPP 8402 013
SOURCE_IMAGE_DATE: 1995 09 02
SOURCE_IMAGE_ID: NAPP 8402 022
SOURCE_IMAGE_DATE: 1995 09 02
SOURCE_DEM_DATE: 1955 00 00
AGENCY: WESTERN MAPPING CENTER (WMC)
PRODUCER: UNDEFINED
PRODUCTION_SYSTEM: GIS/MAGIC
COMPRESSION: UNDEFINED
STANDARD_VERSION: 1996 12
METADATA_DATE: 2000 05 25
DATA_FILE_SIZE: 43797062
BYTE_COUNT: 5702
